BEGIN:VCALENDAR
PRODID:NingEventWidget-v1
VERSION:2.0
METHOD:PUBLISH
BEGIN:VEVENT
UID:1791588:Event:123369
DTSTAMP:20260422T030952Z
SUMMARY:Mammography Fellowship Option 1
DESCRIPTION:Mammography Fellowship-Option 1 Initial MQSA Training Requ
 irement for Mammography If you are looking for a comprehensive course 
 on mammography skill training and enhancement, this is the course for 
 you! You will cover every aspect of a mammography procedure required t
 o meet initial training requirements as outlined by MQSA . The topics 
 cov-ered will include anatomy and physiology, hands-on positioning lab
 , film critique sessions and clinical participation. Quality control, 
 pathology, special procedures and imaging the augmented breast are a m
 ust for the new mammography technologist and will be cov-ered in detai
 l as highlights in this class. The instructional material provided is 
 a great resource once you return to the workplace. This practical appr
 oach to learning mammography is applicable to all technologists perfor
 ming mammography. Professional liability in-surance is provided for on
 -site clinical rotations. Clinical dress codes apply for the clinical 
 rotations. ARRT certification and/or a fully unre-stricted state licen
 se are required for admission to the training. Registration must be re
 ceived at three weeks in advance for Option 2 to assure clinical rotat
 ion sites. This course has been evaluated and meets the 40 contact hou
 r initial training requirements as mandated by the MQSA standards for 
 the FDA. You will also receive 32 hours Category A credit.   This co
 urse meets the guidelines for states requiring special education for m
 ammography.\n\nFor more information visit https://community.radrounds.
 com/events/mammography-fellowship-option-1-3
DTSTART:20120719T120000Z
DTEND:20120722T210000Z
CATEGORIES:ce, course
LOCATION:Advanced Health Education Center
WEBSITE:http://store.aheconline.com/DisplayDetail.aspx?pid=6973
URL:http://store.aheconline.com/DisplayDetail.aspx?pid=6973
CONTACT:800-239-1361
ORGANIZER:Advanced Health Education Center
ATTACH;FMTTYPE="image/jpeg":
ATTENDEE;ROLE=REQ-PARTICIPANT;PARTSTAT=ACCEPTED;RSVP=TRUE;CN="Larry Ca
 rney":https://community.radrounds.com/profile/LarryCarney
END:VEVENT
END:VCALENDAR
