BEGIN:VCALENDAR
PRODID:NingEventWidget-v1
VERSION:2.0
METHOD:PUBLISH
BEGIN:VEVENT
UID:1791588:Event:117529
DTSTAMP:20260422T031038Z
SUMMARY:Mammography Fellowship Option 1
DESCRIPTION:Mammography Fellowship Option 1\nThursday, May 03, 2012 - 
 Sunday, May 06, 2012\nAdvanced Health Education Center\nHouston, Texas
  (TX), United States\nProvided by Advanced Health Education Center\n\n
 CME Provider:\nAdvanced Health Education Center\n8502 Tybor Drive\nHou
 ston, Texas (TX) 77074\nUnited States\n\nToll Free: (800) 239-1361\nPh
 one: (713) 772-0157\nFax: (713) 772-0155 Conference Center:\nAdvanced 
 Health Education Center\n8502 Tybor Drive\nHouston, Texas (TX) 77074\n
 United States\n\nPhone: (800) 239-1361\n\nDescription:\nMammography Fe
 llowship-Option 1\n\nInitial MQSA Training Requirement for Mammography
 \n\nIf you are looking for a comprehensive course on mammography skill
  training and enhancement, this is the course for you! You will cover 
 every aspect of a mammography procedure required to meet initial train
 ing requirements as outlined by MQSA . The topics cov-ered will includ
 e anatomy and physiology, hands-on positioning lab, film critique sess
 ions and clinical participation. Quality control, pathology, special p
 rocedures and imaging the augmented breast are a must for the new mamm
 ography technologist and will be cov-ered in detail as highlights in t
 his class. The instructional material provided is a great resource onc
 e you return to the workplace.\n\nThis practical approach to learning 
 mammography is applicable to all technologists performing mammography.
  Professional liability in-surance is provided for on-site clinical ro
 tations. Clinical dress codes apply for the clinical rotations. ARRT c
 ertification and/or a fully unre-stricted state license are required f
 or admission to the training. Registration must be received at three w
 eeks in advance for Option 2 to assure clinical rotation sites. This c
 ourse has been evaluated and meets the 40 contact hour initial trainin
 g requirements as mandated by the MQSA standards for the FDA. You will
  also receive 32 hours Category A credit. This course meets the guidel
 ines for states requiring special education for mammography.\n\nSelf A
 ssessment Module (SAM): No\n\nInstructors:\nSusan Sprinkle-Vincent, AA
 S, RT(R)(M)\n\nFor more information visit https://community.radrounds.
 com/events/mammography-fellowship-option-1-1
DTSTART:20120503T040000Z
DTEND:20120507T035900Z
CATEGORIES:radiology
LOCATION:Advanced Health Education Center
WEBSITE:http://aheconline.com/
URL:http://aheconline.com/
CONTACT:(800) 239-1361
ORGANIZER:Advanced Health Education Center  
ATTACH;FMTTYPE="image/jpeg":
ATTENDEE;ROLE=REQ-PARTICIPANT;PARTSTAT=ACCEPTED;RSVP=TRUE;CN="radRound
 s Radiology Events":https://community.radrounds.com/profile/radRoundsR
 adiologyEvents
END:VEVENT
END:VCALENDAR
