BEGIN:VCALENDAR
PRODID:NingEventWidget-v1
VERSION:2.0
METHOD:PUBLISH
BEGIN:VEVENT
UID:1791588:Event:123326
DTSTAMP:20260422T143251Z
SUMMARY:Mammography: Evolution, Imaging and Detection
DESCRIPTION:This course is packed full of Mammography topics for the s
 easoned technologist.  First stop is a look back through the evolutio
 n of mammography-how it began and where it is now. WOW what a trip! Pa
 thology findings will take you through anatomy and physiology to how c
 ancer happens.  You will look at implants and reconstruction from a v
 iew you may have never thought about.   Digital mammography will be 
 a highlight of this class along with breast tomosynthesis, the new tec
 hnology we have been waiting for.  Included will be Breast MRI and ma
 le breast cancer topics of interest to all.  Join us for a day of gre
 at topics you are sure to remember.  Come experience the day with us 
 and go home with enhanced knowledge and excitement for the wonderful j
 ob you do everyday.\n\nFor more information visit https://community.ra
 drounds.com/events/mammography-evolution-imaging-and-detection
DTSTART:20120609T120000Z
DTEND:20120609T201500Z
CATEGORIES:ce, course
LOCATION:DoubleTree Club Hotel
WEBSITE:http://store.aheconline.com/DisplayDetail.aspx?pid=7208
URL:http://store.aheconline.com/DisplayDetail.aspx?pid=7208
CONTACT:800-239-1361
ORGANIZER:Advanced Health Education Center
ATTACH;FMTTYPE="image/jpeg":
ATTENDEE;ROLE=REQ-PARTICIPANT;PARTSTAT=ACCEPTED;RSVP=TRUE;CN="Larry Ca
 rney":https://community.radrounds.com/profile/LarryCarney
END:VEVENT
END:VCALENDAR
