BEGIN:VCALENDAR
PRODID:NingEventWidget-v1
VERSION:2.0
METHOD:PUBLISH
BEGIN:VEVENT
UID:1791588:Event:183819
DTSTAMP:20260420T105013Z
SUMMARY:Mammography EQUIP Initiatives Step 2: Understanding Responsibi
 lities and Processes (Live Webinar)
DESCRIPTION:Course Topics\n\nIntent of the EQUIP Initiative Review\nCo
 mpliance Strategies\nAccreditation Bodies\n\n\nResponsibilities\nTechn
 ologist\nSonographer\n\n\nQuality Stages & Processes\nPhysician Compli
 ance\nTechnologist QC\nPhysician QC\nDocumentation\nInspection Records
 \n\n\n\n\nFor more information visit https://community.radrounds.com/e
 vents/mammography-equip-initiatives-step-2-understanding-2
DTSTART:20180926T150000Z
DTEND:20180926T160000Z
CATEGORIES:live, webinar
LOCATION:Advanced Health Education Center
WEBSITE:https://store.aheconline.com/
URL:https://store.aheconline.com/
CONTACT:800-239-1361
ORGANIZER;CN="Larry Carney":https://community.radrounds.com/profile/La
 rryCarney
ATTACH;FMTTYPE="image/jpeg":
ATTENDEE;ROLE=REQ-PARTICIPANT;PARTSTAT=ACCEPTED;RSVP=TRUE;CN="Larry Ca
 rney":https://community.radrounds.com/profile/LarryCarney
END:VEVENT
END:VCALENDAR
