BEGIN:VCALENDAR
PRODID:NingEventWidget-v1
VERSION:2.0
METHOD:PUBLISH
BEGIN:VEVENT
UID:1791588:Event:183482
DTSTAMP:20260423T135359Z
SUMMARY:Mammography EQUIP Initiatives Step 1: Conquering the Jargon (L
 ive Webinar)
DESCRIPTION:Course Topics:\n1. Intent of the EQUIP Initiative\n2. Regu
 latory compliance requirements for EQUIP\nÂ Â  a. Who\nÂ Â  b. What\nÂ
  Â  c. When\n3. Overcoming the Acronym Jargon\nÂ Â  a. EQUIP\nÂ Â  b. 
 ACR\nÂ Â  c. MAP\nÂ Â  d. AB\nÂ Â  e. IP\n\nFor more information visit
  https://community.radrounds.com/events/mammography-equip-initiatives-
 step-1-conquering-the-jargon-live
DTSTART:20180905T170000Z
DTEND:20180905T180000Z
CATEGORIES:live, webinar
LOCATION:Advanced Health Education Center
WEBSITE:https://store.aheconline.com/
URL:https://store.aheconline.com/
CONTACT:800-239-1361
ORGANIZER;CN="Larry Carney":https://community.radrounds.com/profile/La
 rryCarney
ATTACH;FMTTYPE="image/jpeg":
ATTENDEE;ROLE=REQ-PARTICIPANT;PARTSTAT=ACCEPTED;RSVP=TRUE;CN="Larry Ca
 rney":https://community.radrounds.com/profile/LarryCarney
END:VEVENT
END:VCALENDAR
