BEGIN:VCALENDAR
PRODID:NingEventWidget-v1
VERSION:2.0
METHOD:PUBLISH
BEGIN:VEVENT
UID:1791588:Event:188328
DTSTAMP:20260425T074347Z
SUMMARY:Mammography EQUIP Initiatives Step 1: Conquering the Jargon (L
 ive Webinar)
DESCRIPTION:\nIntent of the EQUIP Initiative\nRegulatory compliance re
 quirements for EQUIP\n Who\nWhat\nWhen\n\n\nOvercoming the acronym ja
 rgon\nEQUIP\n ACR\n MAP\n AB\n IP\n\n\n\n\nFor more information vi
 sit https://community.radrounds.com/events/mammography-equip-initiativ
 es-step-1-conquering-the-jargon-live-3
DTSTART:20190327T170000Z
DTEND:20190327T180000Z
CATEGORIES:live, webinar
LOCATION:Advanced Health Education Center
WEBSITE:https://store.aheconline.com/
URL:https://store.aheconline.com/
CONTACT:1(800) 239-1361
ORGANIZER:AHEC
ATTACH;FMTTYPE="image/jpeg":
ATTENDEE;ROLE=REQ-PARTICIPANT;PARTSTAT=ACCEPTED;RSVP=TRUE;CN="Larry Ca
 rney":https://community.radrounds.com/profile/LarryCarney
END:VEVENT
END:VCALENDAR
