BEGIN:VCALENDAR
PRODID:NingEventWidget-v1
VERSION:2.0
METHOD:PUBLISH
BEGIN:VEVENT
UID:1791588:Event:183817
DTSTAMP:20260420T123101Z
SUMMARY:Mammography EQUIP Initiatives Step 1: Conquering the Jargon (L
 ive Webinar)
DESCRIPTION:Course Topics\nI.                   Inte
 nt of the EQUIP Initiative\nII.                Regulato
 ry compliance requirements for EQUIP\na.       Who\nb.     
  What\nc.       When\nIII.             Overcoming th
 e acronym jargon\na.       EQUIP\nb.      ACR\nc.     
   MAP\nd.      AB\ne.       IP\n\nFor more information vis
 it https://community.radrounds.com/events/mammography-equip-initiative
 s-step-1-conquering-the-jargon-live-2
DTSTART:20180926T130000Z
DTEND:20180926T140000Z
CATEGORIES:live, webinar
LOCATION:Advanced Health Education Center
WEBSITE:https://store.aheconline.com/
URL:https://store.aheconline.com/
CONTACT:800-239-1361
ORGANIZER;CN="Larry Carney":https://community.radrounds.com/profile/La
 rryCarney
ATTACH;FMTTYPE="image/jpeg":
ATTENDEE;ROLE=REQ-PARTICIPANT;PARTSTAT=ACCEPTED;RSVP=TRUE;CN="Larry Ca
 rney":https://community.radrounds.com/profile/LarryCarney
END:VEVENT
END:VCALENDAR
