BEGIN:VCALENDAR
PRODID:NingEventWidget-v1
VERSION:2.0
METHOD:PUBLISH
BEGIN:VEVENT
UID:1791588:Event:183811
DTSTAMP:20260421T063241Z
SUMMARY:Mammography EQUIP Initiatives Step 1: Conquering the Jargon (L
 ive Webinar)
DESCRIPTION:Course Topics\nI. Intent of the EQUIP Initiative\nII. Regu
 latory compliance requirements for EQUIP\na.Who\nb.What\nc.When\nIII.O
 vercoming the acronym jargon\na.EQUIP\nb.ACR\nc.MAP\nd.AB\ne.IP\n\nFor
  more information visit https://community.radrounds.com/events/mammogr
 aphy-equip-initiatives-step-1-conquering-the-jargon-live-1
DTSTART:20180920T160000Z
DTEND:20180920T170000Z
CATEGORIES:live, webinar
LOCATION:Advanced Health Education Center
WEBSITE:https://store.aheconline.com/
URL:https://store.aheconline.com/
CONTACT:800-239-1361
ORGANIZER;CN="Larry Carney":https://community.radrounds.com/profile/La
 rryCarney
ATTACH;FMTTYPE="image/jpeg":
ATTENDEE;ROLE=REQ-PARTICIPANT;PARTSTAT=ACCEPTED;RSVP=TRUE;CN="Larry Ca
 rney":https://community.radrounds.com/profile/LarryCarney
END:VEVENT
END:VCALENDAR
