BEGIN:VCALENDAR
PRODID:NingEventWidget-v1
VERSION:2.0
METHOD:PUBLISH
BEGIN:VEVENT
UID:1791588:Event:123093
DTSTAMP:20260422T143331Z
SUMMARY:Mammography Champions
DESCRIPTION:Mammography-the most difficult radiographic procedure to p
 erform is only for \"Champions\"! We  must love what we do and give i
 t 100% at all times.  Let's look at a broader range of topics that wi
 ll keep us inspired and challenged. Come join us for another fantastic
  educational and fun filled day built just for the \"Champion Mammogra
 pher\"!\n\nFor more information visit https://community.radrounds.com/
 events/mammography-champions-3
DTSTART:20120609T120000Z
DTEND:20120609T201500Z
CATEGORIES:ce, course
LOCATION:Citizens Medical Center
WEBSITE:http://store.aheconline.com/DisplayDetail.aspx?pid=7059
URL:http://store.aheconline.com/DisplayDetail.aspx?pid=7059
CONTACT:800-239-1361
ORGANIZER:Advanced Health Education Center
ATTACH;FMTTYPE="image/jpeg":
ATTENDEE;ROLE=REQ-PARTICIPANT;PARTSTAT=ACCEPTED;RSVP=TRUE;CN="Larry Ca
 rney":https://community.radrounds.com/profile/LarryCarney
END:VEVENT
END:VCALENDAR
