BEGIN:VCALENDAR
PRODID:NingEventWidget-v1
VERSION:2.0
METHOD:PUBLISH
BEGIN:VEVENT
UID:1791588:Event:116282
DTSTAMP:20260423T032926Z
SUMMARY:Mammography Champions
DESCRIPTION:Mammography Champions Saturday, May 05, 2012 - Saturday, M
 ay 05, 2012Longview Regional Medical Center Longview, Texas (TX), Unit
 ed StatesProvided by Advanced Health Education Center  CME Provider: A
 dvanced Health Education Center 8502 Tybor DriveHouston, Texas (TX) 77
 074United States\nToll Free: (800) 239-1361Phone: (713) 772-0157Fax: (
 713) 772-0155\n\nConference Center:Longview Regional Medical Center 30
 00 North 4thSenior Circle BuildingLongview, Texas (TX) 75605United Sta
 tes\nPhone: (903) 758-1818\nDescription:Mammography-the most difficult
  radiographic procedure to perform is only for \"Champions\"! We must 
 love what we do and give it 100% at all times. Let's look at a broader
  range of topics that will keep us inspired and challenged. Come join 
 us for another fantastic educational and fun filled day built just for
  the \"Champion Mammographer\"!\nCourse Topics â€¢ History of Mammogra
 phy and the Hunt for Breast Cancerâ€¢ Digital Mammography Quality Cont
 rol-What do these QC Numbers Mean?â€¢ Mammography in the Middle Eastâ€
 ¢ Pathology Toolboxâ€¢ Donâ€™t You Have that Mammography Machine that 
 Doesnâ€™t Use Compression???â€¢ Expert Image Critique-The Good, The Ba
 d, The Uglyâ€¢ Mammography Chempions\nSelf Assessment Module (SAM): No
 \nInstructors:Sandra Maxey, AAS, RT(R)(M)\nSpecialty Audience:Radiolog
 y\n\nFor more information visit https://community.radrounds.com/events
 /mammography-champions-1
DTSTART:20120505T040000Z
DTEND:20120506T035900Z
CATEGORIES:radiology
LOCATION:Longview Regional Medical Center
WEBSITE:http://www.longviewregional.com/Pages/home.aspx
URL:http://www.longviewregional.com/Pages/home.aspx
CONTACT:(903) 758-1818
ORGANIZER:http://www.longviewregional.com/Pages/home.aspx
ATTACH;FMTTYPE="image/jpeg":
ATTENDEE;ROLE=REQ-PARTICIPANT;PARTSTAT=ACCEPTED;RSVP=TRUE;CN="radRound
 s Radiology Events":https://community.radrounds.com/profile/radRoundsR
 adiologyEvents
END:VEVENT
END:VCALENDAR
