BEGIN:VCALENDAR
PRODID:NingEventWidget-v1
VERSION:2.0
METHOD:PUBLISH
BEGIN:VEVENT
UID:1791588:Event:123456
DTSTAMP:20260421T062326Z
SUMMARY:Mammography: Breast Biopsy and Digital Breast Tomosynthesis
DESCRIPTION:This new mammography course will focus on two informative 
 topics of interest to mammographers-Stereotactic Breast Biopsy and the
  latest technology DIGITAL BREAST TOMOSYNTHESIS!  It is packed full o
 f information you are sure to love!  First we will take an in depth l
 ook at Stereotactic Breast Biopsy and Genetic Testing for Breast Cance
 r.  We will discuss the ins and outs of stereotactic breast biopsy an
 d its role in diagnosis.  The entire afternoon will be spent on Digit
 al Breast Tomosynthesis to include the theory, implementation and appr
 oved uses of this fascinating new modality. This class is perfect for 
 the mammographer looking for a day of information and knowledge you ca
 n take back to work and understand the working of both of these wonder
 ful technologies we have to help us in our fight against breast cancer
 .   Digital Breast Tomosynthesis is expected to increase detection a
 nd reduce recall rates.  This program will discuss the practical appl
 ication in the clinical setting and include the quality control proced
 ures specific to this technology.  Don't miss this day of intriguing 
 topics and discussions presented by a mammography/stereotactic technol
 ogist from M.D. Anderson Cancer Center in Houston, Texas.  Deborah ha
 s a wealth of knowledge and experience to share.  Come join her for t
 his day and go home with enhanced knowledge and excitement for our spl
 endid profession!\n\nFor more information visit https://community.radr
 ounds.com/events/mammography-breast-biopsy-and-digital-breast-tomosynt
 hesis
DTSTART:20120922T120000Z
DTEND:20120922T201500Z
CATEGORIES:ce, course
LOCATION:Providence Medford Medical Center
WEBSITE:http://store.aheconline.com/DisplayDetail.aspx?pid=7120
URL:http://store.aheconline.com/DisplayDetail.aspx?pid=7120
CONTACT:800-239-1361
ORGANIZER:Advanced Health Education Center
ATTACH;FMTTYPE="image/jpeg":
ATTENDEE;ROLE=REQ-PARTICIPANT;PARTSTAT=ACCEPTED;RSVP=TRUE;CN="Larry Ca
 rney":https://community.radrounds.com/profile/LarryCarney
END:VEVENT
END:VCALENDAR
