BEGIN:VCALENDAR
PRODID:NingEventWidget-v1
VERSION:2.0
METHOD:PUBLISH
BEGIN:VEVENT
UID:1791588:Event:116005
DTSTAMP:20260424T072739Z
SUMMARY:Mammography: A Sweet Challenge
DESCRIPTION:Mammography: A Sweet Challenge Saturday, February 25, 2012
  - Saturday, February 25, 2012Embassy Suites Hotel El Paso, Texas (TX)
 , United StatesProvided by Advanced Health Education Center  CME Provi
 der: Advanced Health Education Center 8502 Tybor DriveHouston, Texas (
 TX) 77074United States\nToll Free: (800) 239-1361Phone: (713) 772-0157
 Fax: (713) 772-0155\n\nConference Center:Embassy Suites Hotel 6100 Gat
 eway Blvd. EastEl Paso, Texas (TX) 79905United States\nPhone: 915-779-
 6222\nDescription:Join us for this one day program as we celebrate the
  champion mammographer with \"Mammography: A Sweet Challenge\" a cours
 e designed specifically for the busy mammographer. This course will en
 lighten, educate and motivate you with new topics sure to keep your at
 tention! One of the nation's leading mammography educators will presen
 t this educational and fun day of mammography. Seating is limited so d
 on't wait to register you don't want to miss this course.\nCourse Topi
 cs • History of Mammography and the Hunt for Breast Cancer • The A
 rt of Positioning • Pathology Toolbox • Tools for Masses • Tools
  for Calcifications • Tools for Scar vs. Residual / Recurrent Diseas
 e • Understanding the Disease Process-Staging Our Patients • A Swe
 et Challenge: Positioning • Digital Mammography Quality Control-what
  do the QC numbers mean? • Celebrating the Mammography Technologist\
 nSelf Assessment Module (SAM): No\nInstructors:Deborah Thames, RT(R)(M
 )(QM)\nSpecialty Audience:Radiology\n\nFor more information visit http
 s://community.radrounds.com/events/mammography-a-sweet-challenge
DTSTART:20120225T050000Z
DTEND:20120226T045900Z
CATEGORIES:radiology
LOCATION:Embassy Suites Hotel
WEBSITE:http://embassysuites1.hilton.com/en_US/es/hotel/ELPGWES-Embass
 y-Suites-El-Paso-Texas/index.do
URL:http://embassysuites1.hilton.com/en_US/es/hotel/ELPGWES-Embassy-Su
 ites-El-Paso-Texas/index.do
CONTACT:915-779-6222
ORGANIZER:Advanced Health Education Center
ATTACH;FMTTYPE="image/jpeg":
ATTENDEE;ROLE=REQ-PARTICIPANT;PARTSTAT=ACCEPTED;RSVP=TRUE;CN="radRound
 s Radiology Events":https://community.radrounds.com/profile/radRoundsR
 adiologyEvents
END:VEVENT
END:VCALENDAR
