BEGIN:VCALENDAR
PRODID:NingEventWidget-v1
VERSION:2.0
METHOD:PUBLISH
BEGIN:VEVENT
UID:1791588:Event:123259
DTSTAMP:20260421T204100Z
SUMMARY:Mammography: A Method to the Madness!
DESCRIPTION:Do you have quality management and patient care madness yo
 u are not sure how to handle?  Knowledge is valuable but the ability 
 to apply the knowledge is the backbone of moving from a mammography fo
 cused program to a comprehensive Breast Imaging Quality Standards Prog
 ram.  Join us for a different type of learning experience in a mammog
 raphy workshop that combines the art of mammography with best practice
 s of quality breast imaging. This day of learning will be guided by fa
 culty that understands the benefits of engaging the class participants
  in activities and scenarios that teach you how to apply quality manag
 ement theory and process to real life work situations.  This workshop
  will combine instructor presentations and breakout sessions with the 
 opportunity to take a look at the needs of your facility and how to de
 al with the day-to-day problems which can be roadblocks to keeping you
  and your patients happy. The “quality factor” continues to be a k
 ey component in every aspect of health care, and technologists are bei
 ng asked to do their part in pursuit of improved image quality and cus
 tomer service.  Join AHEC for a day of sharing experiences, networkin
 g and professional development, and go home ready to tackle that mammo
 graphy madness.\n\nFor more information visit https://community.radrou
 nds.com/events/mammography-a-method-to-the-madness-2
DTSTART:20120804T120000Z
DTEND:20120804T201500Z
CATEGORIES:ce, course
LOCATION:Courtyard by Marriott
WEBSITE:http://store.aheconline.com/DisplayDetail.aspx?pid=7307
URL:http://store.aheconline.com/DisplayDetail.aspx?pid=7307
CONTACT:800-239-1361
ORGANIZER:Advanced Health Education Center
ATTACH;FMTTYPE="image/jpeg":
ATTENDEE;ROLE=REQ-PARTICIPANT;PARTSTAT=ACCEPTED;RSVP=TRUE;CN="Larry Ca
 rney":https://community.radrounds.com/profile/LarryCarney
END:VEVENT
END:VCALENDAR
