BEGIN:VCALENDAR
PRODID:NingEventWidget-v1
VERSION:2.0
METHOD:PUBLISH
BEGIN:VEVENT
UID:1791588:Event:115269
DTSTAMP:20260425T064806Z
SUMMARY:Mammography: A Magnificent Journey of Hope
DESCRIPTION:Mammography: A Magnificent Journey of Hope Saturday, Janua
 ry 21, 2012 - Saturday, January 21, 2012Crowne Plaza Hotel Dallas, Tex
 as (TX), United StatesProvided by Advanced Health Education Center  CM
 E Provider: Advanced Health Education Center 8502 Tybor DriveHouston, 
 Texas (TX) 77074United States\nToll Free: (800) 239-1361Phone: (713) 7
 72-0157Fax: (713) 772-0155\n\nConference Center:Crowne Plaza Hotel 705
 0 N. Stemmons FreewayDallas, Texas (TX) 75247United States\nPhone: (21
 4) 630-8500\n Description:You will love this 5-hour live program dedic
 ated to the magnificent journey of hope and determination to save live
 s every day! This course was designed especially for you the dedicated
  busy mammography technologist. The mixture of topics will keep you in
 terested and on your toes with interactive image critique and more. Do
 n't' miss this educational and fun day of mammography. Seating is limi
 ted so don't wait to register.\nCourse Topics • The History of Mammo
 graphy and the Hunt for Breast Cancer• Artifacts-Wierd and Wacky Sig
 htings on the Images• Close Doesn\"t Count Except in Horse Shoes and
  Hand Grenades-image critique• New Horizons-Digital Breast Tomosynth
 esis• Mammography Champions!\nSelf Assessment Module (SAM): No\nInst
 ructors:Kit Haake, M.B.A., R.T.(R)(M)\nSpecialty Audience:Radiology\n\
 nFor more information visit https://community.radrounds.com/events/mam
 mography-a-magnificent-journey-of-hope
DTSTART:20120121T050000Z
DTEND:20120122T045900Z
CATEGORIES:radiology
LOCATION:Crowne Plaza Hotel
WEBSITE:http://www.ichotelsgroup.com/crowneplaza/hotels/us/en/dallas/d
 almt/hoteldetail
URL:http://www.ichotelsgroup.com/crowneplaza/hotels/us/en/dallas/dalmt
 /hoteldetail
CONTACT:(214) 630-8500
ORGANIZER:Advanced Health Education Center
ATTACH;FMTTYPE="image/jpeg":
ATTENDEE;ROLE=REQ-PARTICIPANT;PARTSTAT=ACCEPTED;RSVP=TRUE;CN="radRound
 s Radiology Events":https://community.radrounds.com/profile/radRoundsR
 adiologyEvents
END:VEVENT
END:VCALENDAR
