BEGIN:VCALENDAR
PRODID:NingEventWidget-v1
VERSION:2.0
METHOD:PUBLISH
BEGIN:VEVENT
UID:1791588:Event:116219
DTSTAMP:20260423T155047Z
SUMMARY:Mammography: A Magnificent Journey of Hope
DESCRIPTION:Mammography: A Magnificent Journey of Hope Saturday, March
  31, 2012 - Saturday, March 31, 2012Holiday Inn Select Airport San Ant
 onio, Texas (TX), United StatesProvided by Advanced Health Education C
 enter  CME Provider: Advanced Health Education Center 8502 Tybor Drive
 Houston, Texas (TX) 77074United States\nToll Free: (800) 239-1361Phone
 : (713) 772-0157Fax: (713) 772-0155\n\nConference Center:Holiday Inn S
 elect Airport 77 NE Loop 410San Antonio, Texas (TX) 78216United States
 \nPhone: (210) 349-9900Fax: (210) 349-4660\n Description:You will love
  this 5-hour live program dedicated to the magnificent journey of hope
  and determination to save lives every day! This course was designed e
 specially for you the dedicated busy mammography technologist. The mix
 ture of topics will keep you interested and on your toes with interact
 ive image critique and more. Don't' miss this educational and fun day 
 of mammography. Seating is limited so don't wait to register.\nCourse 
 Topics â€˘ The History of Mammography and the Hunt for Breast Cancerâ€
 ˘ Artifacts-Wierd and Wacky Sightings on the Imagesâ€˘ Close Doesn\"t 
 Count Except in Horse Shoes and Hand Grenades-image critiqueâ€˘ New Ho
 rizons-Digital Breast Tomosynthesisâ€˘ Mammography Champions!\nSelf As
 sessment Module (SAM): No\nInstructors:Sandra Maxey, AAS, RT(R)(M)\nSp
 ecialty Audience:Radiology\n\nFor more information visit https://commu
 nity.radrounds.com/events/mammography-a-magnificent-journey-of-hope-2
DTSTART:20120331T040000Z
DTEND:20120401T035900Z
CATEGORIES:radiology
LOCATION:Holiday Inn Select Airport
WEBSITE:http://(210) 349-9900
URL:http://(210) 349-9900
CONTACT:(210) 349-9900
ORGANIZER:Advanced Health Education Center
ATTACH;FMTTYPE="image/jpeg":
ATTENDEE;ROLE=REQ-PARTICIPANT;PARTSTAT=ACCEPTED;RSVP=TRUE;CN="radRound
 s Radiology Events":https://community.radrounds.com/profile/radRoundsR
 adiologyEvents
END:VEVENT
END:VCALENDAR
