BEGIN:VCALENDAR
PRODID:NingEventWidget-v1
VERSION:2.0
METHOD:PUBLISH
BEGIN:VEVENT
UID:1791588:Event:123609
DTSTAMP:20260421T090914Z
SUMMARY:Mammographers Toolbox
DESCRIPTION:Come with us as we explore this \"Toolbox\" full of inform
 ation just for the professional mammographer!Â  Join Dotty for a day o
 f information designed to help you meet the challenges of todayâ€™s he
 althcare environment and increasing patient expectations and demands.Â
   Gain valuable information for your personal toolbox in coping with t
 he stress and liability of your workplace. Take a look at how we arriv
 ed where we are today in breast imaging.Â  You will love this!Â  Visit
  the land of technology, genetics, communication, and responsibility t
 hat comprises mammography.Â  Join us to learn about the tools in every
  mammographer's toolbox and go home with a renewed sense of pride for 
 the wonderful job you do every day as you save lives one patient at a 
 time!\n\nFor more information visit https://community.radrounds.com/ev
 ents/mammographers-toolbox
DTSTART:20120915T120000Z
DTEND:20120915T201500Z
CATEGORIES:ce, course
LOCATION:Holiday Inn Concord
WEBSITE:http://store.aheconline.com/DisplayDetail.aspx?pid=7311
URL:http://store.aheconline.com/DisplayDetail.aspx?pid=7311
CONTACT:800-239-1361
ORGANIZER:Advanced Health Education Center
ATTACH;FMTTYPE="image/jpeg":
ATTENDEE;ROLE=REQ-PARTICIPANT;PARTSTAT=ACCEPTED;RSVP=TRUE;CN="Larry Ca
 rney":https://community.radrounds.com/profile/LarryCarney
END:VEVENT
END:VCALENDAR
