BEGIN:VCALENDAR
PRODID:NingEventWidget-v1
VERSION:2.0
METHOD:PUBLISH
BEGIN:VEVENT
UID:1791588:Event:167855
DTSTAMP:20260421T145420Z
SUMMARY:Linking Imaging Modalities
DESCRIPTION:Course Topics\n\nRadiation Biology and Protection\nPatholo
 gy Presentation\nAnatomical vs. Molecular Imaging\nLeadership\n\n\nFor
  more information visit https://community.radrounds.com/events/linking
 -imaging-modalities-4
DTSTART:20161112T130000Z
DTEND:20161112T211500Z
CATEGORIES:live, event
LOCATION:Austin
WEBSITE:https://store.aheconline.com/index.php?route=product/product&p
 ath=59&product_id=2569
URL:https://store.aheconline.com/index.php?route=product/product&path=
 59&product_id=2569
CONTACT:18002391361
ORGANIZER;CN="Larry Carney":https://community.radrounds.com/profile/La
 rryCarney
ATTACH;FMTTYPE="image/jpeg":
ATTENDEE;ROLE=REQ-PARTICIPANT;PARTSTAT=ACCEPTED;RSVP=TRUE;CN="Larry Ca
 rney":https://community.radrounds.com/profile/LarryCarney
END:VEVENT
END:VCALENDAR
