BEGIN:VCALENDAR
PRODID:NingEventWidget-v1
VERSION:2.0
METHOD:PUBLISH
BEGIN:VEVENT
UID:1791588:Event:172482
DTSTAMP:20260422T115001Z
SUMMARY:Limited OB Ultrasound (Live Event)
DESCRIPTION:This course is designed for the medical professional alre
 ady performing ultrasound procedures.  Expedite your patient’s di
 agnosis with the tools and techniques needed to obtain a diagnostic im
 age with ultrasound.  This two-day program combines lecture and super
 vised hands on scan experience on live models for the healthcare profe
 ssional. Content presented will include an introduction to ultrasound 
 instrumentation and female anatomy. Both transabdominal and endovagina
 l scanning techniques will be discussed. Fetal measurements, anomalies
 , BPP and placenta will be discussed.\n\nFor more information visit ht
 tps://community.radrounds.com/events/limited-ob-ultrasound-live-event-
 1
DTSTART:20171012T120000Z
DTEND:20171013T201500Z
CATEGORIES:live, event
LOCATION:Advanced Health Education Center
WEBSITE:https://store.aheconline.com/index.php?route=product/product&p
 ath=59&product_id=2808
URL:https://store.aheconline.com/index.php?route=product/product&path=
 59&product_id=2808
CONTACT:800-239-1361
ORGANIZER;CN="Larry Carney":https://community.radrounds.com/profile/La
 rryCarney
ATTACH;FMTTYPE="image/jpeg":
ATTENDEE;ROLE=REQ-PARTICIPANT;PARTSTAT=ACCEPTED;RSVP=TRUE;CN="Larry Ca
 rney":https://community.radrounds.com/profile/LarryCarney
END:VEVENT
END:VCALENDAR
