BEGIN:VCALENDAR
PRODID:NingEventWidget-v1
VERSION:2.0
METHOD:PUBLISH
BEGIN:VEVENT
UID:1791588:Event:158553
DTSTAMP:20260421T112440Z
SUMMARY:Limited OB Ultrasound
DESCRIPTION:Expedite your patient’s diagnosis with the tools and tec
 hniques needed to obtain a diagnostic image with ultrasound.  This tw
 o-day program combines lecture and supervised hands on scan experience
  on live models for the healthcare professional.\nContent presented wi
 ll include an introduction to ultrasound instrumentation and female an
 atomy. Both transabdominal and endovaginal scanning techniques will be
  discussed. Fetal measurements, anomalies, BPP and placenta will be di
 scussed.\nScan With the Experts\nSometimes it takes an additional day 
 or two of scanning to generate confidence in your new skill set.  If 
 you would like to add a day or two, all our ultrasound skills courses 
 can be scheduled with additional scan days in our state of the art int
 eractive scan lab. Give us a call and discuss your needs with our facu
 lty so we can help you achieve your goals.\nObjectives At the completi
 on of the course, the learner will be able to:\n\nUtilize the principl
 es of instrumentation to obtain diagnostic images\nIdentify the differ
 ence in techniques related to transabdominal and transvaginal pelvic s
 canning techniques\nIdentify basic fetal anatomy, and perform a BPP\nC
 omplete a limited OB exam\nIdentify basic fetal anomalies and their ul
 trasound appearance\nApply appropriate measurement techniques for obta
 ining gestational age according to AIUM standards\nRecognize the param
 eters needed to diagnose ectopic pregnancy\n\nCourse Topics\n\nPhysics
  and instrumentation in ultrasound\nPelvic anatomy as related to first
  trimester ultrasound\nFetal normal and abnormal anatomy\nScan protoco
 ls as recommended by AIUM\nFetal growth and development\nFetal measure
 ments and BPP\nEctopic pregnancy\n\nTarget Audience\nPhysicians seekin
 g entry level information for OB and gynecological ultrasound. Physici
 an specialties can include but are not limited to OB/GYN specialists, 
 family practice, internal medicine, emergency medicine or radiology. I
 n addition, this course is beneficial for nurses, midwives, sonographe
 rs, physician assistants, nurse practitioners and radiology technician
 s.\nCME Credit\n\n“The Advanced Health Education Center is accredite
 d by the Accreditation Council for Continuing Medical Education to pro
 vide continuing medical education for physicians.”\n“The Advanced 
 Health Education Center designates this education activity for a maxim
 um of 16 hours of AMA PRA Category 1™. Physician should claim credit
  commensurate with the extent of their participation in the activity.
 \n“The Society of Diagnostic Medical Sonographers allows 12 hours 
 CE Credit.”\n\nFaculty: Debbie Robertson, BS, RDMS\n\nFor more infor
 mation visit https://community.radrounds.com/events/limited-ob-ultraso
 und-9
DTSTART:20151113T050000Z
DTEND:20151115T045900Z
CATEGORIES:"https://store.aheconline.com/index.php?route=product/produ
 ct&filter_name=limited%20ob%20ultrasound&product_id=1602"
LOCATION:AHEC
WEBSITE:https://store.aheconline.com/index.php?route=product/product&f
 ilter_name=LIMITED%20OB%20ULTRASOUND&product_id=1602
URL:https://store.aheconline.com/index.php?route=product/product&filte
 r_name=LIMITED%20OB%20ULTRASOUND&product_id=1602
CONTACT:713-772-0157
ORGANIZER;CN="Larry Carney":https://community.radrounds.com/profile/La
 rryCarney
ATTACH;FMTTYPE="image/jpeg":
ATTENDEE;ROLE=REQ-PARTICIPANT;PARTSTAT=ACCEPTED;RSVP=TRUE;CN="Larry Ca
 rney":https://community.radrounds.com/profile/LarryCarney
END:VEVENT
END:VCALENDAR
