BEGIN:VCALENDAR
PRODID:NingEventWidget-v1
VERSION:2.0
METHOD:PUBLISH
BEGIN:VEVENT
UID:1791588:Event:116600
DTSTAMP:20260423T033104Z
SUMMARY:Limited OB Ultrasound
DESCRIPTION:Limited OB Ultrasound Saturday, May 05, 2012 - Sunday, May
  06, 2012Advanced Health Education Center Houston, Texas (TX), United 
 StatesProvided by Advanced Health Education Center  CME Provider: Adva
 nced Health Education Center 8502 Tybor DriveHouston, Texas (TX) 77074
 United States\nToll Free: (800) 239-1361Phone: (713) 772-0157Fax: (713
 ) 772-0155\n\nConference Center:Advanced Health Education Center 8502 
 Tybor DriveHouston, Texas (TX) 77074United States\nPhone: (800) 239-13
 61\nDescription:This two-day program is designed for the healthcare pr
 ofessional using ultrasound to provide enhancement to the obstetrical 
 examination. This course will provide a valuable combination of lectur
 e, demonstration and in-house scan lab experience with live models. Co
 ntent presented will include an introduction to ultrasound physics, in
 strumentation, and pelvic anatomy (both normal and abnormal). Time wil
 l be dedicated to both transabdominal and endovaginal scanning techniq
 ues and basic fetal and amniotic fluid measurements. Provided in our o
 nsite scan lab will be a diverse selection of ultrasound equipment to 
 be used under the guidance of course faculty.\nObjectives At the compl
 etion of the course, the learner will be able to: • Utilize the prin
 ciples of instrumentation to prepare ultrasound equipment for the exam
 ination. • Recognize normal and abnormal pelvic anatomy. • Identif
 y the difference in techniques related to transabdominal and transvagi
 nal pelvic scanning techniques. • Identify basic fetal anatomy and b
 iophysical profile. • Identify basic fetal anomalies and their ultra
 sound appearance. • Apply appropriate measurement techniques in tran
 sabdominal and endovaginal scanning.\nCourse Topics• Introduction to
  ultrasound physics and instrumentation • Pelvic Anatomy • Fetal A
 natomy • Scan Protocols and Patient Preparation • Fetal Growth and
  Development • Fetal Measurements • Case Studies • Hands-on Scan
  Lab\n”The Advanced Health Education Center is accredited by the Acc
 reditation Council for Continuing Medical Education to provide continu
 ing medical education for physicians.”\n“The Advanced Health Educa
 tion Center designates this education activity for a maximum of 16 hou
 rs of AMA PRA Category 1TM. Physician should claim credit commensurate
  with the extent of their participation in the activity.”\n“The Am
 erican College of Obstetricians and Gynecologists has assigned 16 cogn
 ate hours (Formal Learning) to this program.”\n“The Society of Dia
 gnostic Medical Sonographers allows ?? hours CE credit.”\nSelf Asses
 sment Module (SAM): No\nInstructors:Debbie Robertson, BS, RDMS\nSpecia
 lty Audience:Radiology\n\nFor more information visit https://community
 .radrounds.com/events/limited-ob-ultrasound-3
DTSTART:20120505T040000Z
DTEND:20120507T035900Z
CATEGORIES:radiology
LOCATION:Advanced Health Education Center
WEBSITE:http://aheconline.com/
URL:http://aheconline.com/
CONTACT:(800) 239-1361
ORGANIZER:Advanced Health Education Center
ATTACH;FMTTYPE="image/jpeg":
ATTENDEE;ROLE=REQ-PARTICIPANT;PARTSTAT=ACCEPTED;RSVP=TRUE;CN="radRound
 s Radiology Events":https://community.radrounds.com/profile/radRoundsR
 adiologyEvents
END:VEVENT
END:VCALENDAR
