BEGIN:VCALENDAR
PRODID:NingEventWidget-v1
VERSION:2.0
METHOD:PUBLISH
BEGIN:VEVENT
UID:1791588:Event:59086
DTSTAMP:20260420T044945Z
SUMMARY:Limited OB Ultrasound
DESCRIPTION:Limited OB Ultrasound\nSaturday, October 30, 2010 - Sunday
 , October 31, 2010\nHouston, TX\n\nMEETING SPONSOR:\n Advanced Health 
 Education Center\n8502 Tybor St.\nHouston, TX 77074\nToll-Free 1-800-2
 39-1361\n713-772-0157\nWebsite: http://www.aheconline.com\n\nCONFERENC
 E CENTER:\nAdvanced Health Education Center\n8502 Tybor St.\nHouston, 
 TX 77074\nToll-Free 1-800-239-1361\n713-772-0157\nWebsite: http://www.
 aheconline.com\n\nMEETING BROCHURE:\nTo view and print the meeting bro
 chure, click here:\nhttp://store.aheconline.com/DisplayDetail.aspx?pid
 =4501\n\nMEETING DESCRIPTION:\nThis two-day program is designed for th
 e healthcare professional using ultrasound to provide enhancement to t
 he obstetrical examination. This course will provide a valuable combin
 ation of lecture, demonstration and in-house scan lab experience with 
 live models. Content presented will include an introduction to ultraso
 und physics, instrumentation, and pelvic anatomy (both normal and abno
 rmal). Time will be dedicated to both transabdominal and endovaginal s
 canning techniques and basic fetal and amniotic fluid measurements. Pr
 ovided in our onsite scan lab will be a diverse selection of ultrasoun
 d equipment to be used under the guidance of course faculty.\n\nObject
 ives\nAt the completion of the course, the learner will be able to:\nâ
 €˘ Utilize the principles of instrumentation to prepare ultrasound equ
 ipment for the examination.\nâ€˘ Recognize normal and abnormal pelvic 
 anatomy.\nâ€˘ Identify the difference in techniques related to transab
 dominal and transvaginal pelvic scanning techniques.\nâ€˘ Identify bas
 ic fetal anatomy and biophysical profile.\nâ€˘ Identify basic fetal an
 omalies and their ultrasound appearance.\nâ€˘ Apply appropriate measur
 ement techniques in transabdominal and endovaginal scanning.\n\nCourse
  Topics\nâ€˘ Introduction to ultrasound physics and instrumentation\nâ
 €˘ Pelvic Anatomy\nâ€˘ Fetal Anatomy\nâ€˘ Scan Protocols and Patient P
 reparation\nâ€˘ Fetal Growth and Development\nâ€˘ Fetal Measurements\n
 â€˘ Case Studies\nâ€˘ Hands-on Scan Lab\n\nâ€ťThe Advanced Health Educ
 ation Center is accredited by the Accreditation Council for Continuing
  Medical Education to provide continuing medical education for physici
 ans.â€ť\n\nâ€śThe Advanced Health Education Center designates this edu
 cation activity for a maximum of 16 hours of AMA PRA Category 1TM. Phy
 sician should claim credit commensurate with the extent of their parti
 cipation in the activity.â€ť\n\nâ€śThe American College of Obstetricia
 ns and Gynecologists has assigned 16 cognate hours (Formal Learning) t
 o this program.â€ť\n\nâ€śThe Society of Diagnostic Medical Sonographer
 s allows ?? hours CE credit.â€ť\n\nINSTRUCTORS:\nRachel\n\nCME HOURS: 
 16\n\nLECTURE TOPICS:\nnot listed\n\nFor more information visit https:
 //community.radrounds.com/events/limited-ob-ultrasound-2
DTSTART:20101030T040000Z
DTEND:20101101T035900Z
CATEGORIES:course
LOCATION:Advanced Health Education Center
WEBSITE:http://www.aheconline.com
URL:http://www.aheconline.com
CONTACT:713-772-0157
ORGANIZER:Advanced Health Education Center
ATTACH;FMTTYPE="image/jpeg":
ATTENDEE;ROLE=REQ-PARTICIPANT;PARTSTAT=ACCEPTED;RSVP=TRUE;CN="radRound
 s Radiology Events":https://community.radrounds.com/profile/radRoundsR
 adiologyEvents
END:VEVENT
END:VCALENDAR
