BEGIN:VCALENDAR
PRODID:NingEventWidget-v1
VERSION:2.0
METHOD:PUBLISH
BEGIN:VEVENT
UID:1791588:Event:167932
DTSTAMP:20260420T221531Z
SUMMARY:Limited OB Ultrasound
DESCRIPTION:Course Topics\n\nPhysics and instrumentation in ultrasound
 \nPelvic anatomy as related to first trimester ultrasound\nFetal norma
 l and abnormal anatomy\nScan protocols as recommended by AIUM\nFetal g
 rowth and development\nFetal measurements and BPP\nEctopic pregnancy\n
 \n\nFor more information visit https://community.radrounds.com/events/
 limited-ob-ultrasound-12
DTSTART:20160827T120000Z
DTEND:20160828T201500Z
CATEGORIES:live, event
LOCATION:Houston
WEBSITE:https://store.aheconline.com/index.php?route=product/product&p
 ath=59&product_id=2189
URL:https://store.aheconline.com/index.php?route=product/product&path=
 59&product_id=2189
CONTACT:18002391361
ORGANIZER;CN="Larry Carney":https://community.radrounds.com/profile/La
 rryCarney
ATTACH;FMTTYPE="image/jpeg":
ATTENDEE;ROLE=REQ-PARTICIPANT;PARTSTAT=ACCEPTED;RSVP=TRUE;CN="Larry Ca
 rney":https://community.radrounds.com/profile/LarryCarney
END:VEVENT
END:VCALENDAR
