BEGIN:VCALENDAR
PRODID:NingEventWidget-v1
VERSION:2.0
METHOD:PUBLISH
BEGIN:VEVENT
UID:1791588:Event:158585
DTSTAMP:20260421T080917Z
SUMMARY:Limited OB Ultrasound
DESCRIPTION:Expedite your patient’s diagnosis with the tools and tec
 hniques needed to obtain a diagnostic image with ultrasound.  This tw
 o-day program combines lecture and supervised hands on scan experience
  on live models for the healthcare professional.\nContent presented wi
 ll include an introduction to ultrasound instrumentation and female an
 atomy. Both transabdominal and endovaginal scanning techniques will be
  discussed. Fetal measurements, anomalies, BPP and placenta will be di
 scussed.\n\nFor more information visit https://community.radrounds.com
 /events/limited-ob-ultrasound-10
DTSTART:20150313T040000Z
DTEND:20150315T035900Z
CATEGORIES:seminar
LOCATION:AHEC
WEBSITE:https://store.aheconline.com/index.php?route=product/product&f
 ilter_name=LIMITED%20OB%20ULTRASOUND&product_id=1602
URL:https://store.aheconline.com/index.php?route=product/product&filte
 r_name=LIMITED%20OB%20ULTRASOUND&product_id=1602
CONTACT:713-772-0157
ORGANIZER;CN="Larry Carney":https://community.radrounds.com/profile/La
 rryCarney
ATTACH;FMTTYPE="image/jpeg":
ATTENDEE;ROLE=REQ-PARTICIPANT;PARTSTAT=ACCEPTED;RSVP=TRUE;CN="Larry Ca
 rney":https://community.radrounds.com/profile/LarryCarney
END:VEVENT
END:VCALENDAR
