BEGIN:VCALENDAR
PRODID:NingEventWidget-v1
VERSION:2.0
METHOD:PUBLISH
BEGIN:VEVENT
UID:1791588:Event:194801
DTSTAMP:20260422T172920Z
SUMMARY:Lessons From My Life as a RT (Live Event)
DESCRIPTION:You will appreciate Andre Guillory's effortless teaching s
 tyle and professionalism.  In this course, he covers three important 
 topics and you will enjoy a very fun game of imaging jeopardy.  First
  you will review our ethical responsibilities as RT's.  Then he'll di
 scuss the current hot topic of medical marijuana and how it affects he
 althcare and the opioid crisis. A great overview of quality imaging ti
 ps will follow.  You'll close out the day playing a game to review al
 l you've learned.  Register early to save your seat!\nCourse Topics\n
 \nQuality Imaging\nWhere Do We Stand With Medical Marijuana in the US\
 nEthics in Imaging\nImaging Jeopardy\n\n\nFor more information visit h
 ttps://community.radrounds.com/events/lessons-from-my-life-as-a-rt-liv
 e-event
DTSTART:20200307T130000Z
DTEND:20200307T211500Z
CATEGORIES:live, event
LOCATION:Advanced Health Education Center
WEBSITE:http://store.aheconline.com
URL:http://store.aheconline.com
CONTACT:1 (800) 239-1361
ORGANIZER:AHEC
ATTACH;FMTTYPE="image/jpeg":
ATTENDEE;ROLE=REQ-PARTICIPANT;PARTSTAT=ACCEPTED;RSVP=TRUE;CN="Larry Ca
 rney":https://community.radrounds.com/profile/LarryCarney
END:VEVENT
END:VCALENDAR
