BEGIN:VCALENDAR
PRODID:NingEventWidget-v1
VERSION:2.0
METHOD:PUBLISH
BEGIN:VEVENT
UID:1791588:Event:115245
DTSTAMP:20260425T100459Z
SUMMARY:Las Vegas Radiology Review
DESCRIPTION:Las Vegas Radiology Review Sunday, January 15, 2012 - Frid
 ay, January 20, 2012Paris Las Vegas Hotel Las Vegas, Nevada (NV), Unit
 ed StatesProvided by RadPrep  CME Provider: RadPrep 2576 Broadway #322
 New York, New York (NY) 10025United States\nPhone: (347) 927-7737\nCon
 ference Center:\nParis Las Vegas Hotel 3655 Las Vegas Blvd. SouthLas V
 egas, Nevada (NV) 89109United States\nToll Free: (877) 796-2096Phone: 
 (702) 946-7000\n Description:General radiology review designed for res
 idents\nSelf Assessment Module (SAM): No\nInstructors:Dr. Mark Murphey
 Dr. Paul NikolaidisDr. David YousemDr. Biren ShahDr. Faye LaingDr. San
 dra GorgesDr. Jeffrey MondscheinDr. Peeyush BhargavaDr. Tan-Lucien Moh
 ammedDr. Lawrence Boxt\nSpecialty Audience:Radiology\n\nFor more infor
 mation visit https://community.radrounds.com/events/las-vegas-radiolog
 y-review
DTSTART:20120116T050000Z
DTEND:20120121T045900Z
CATEGORIES:radiology, conference
LOCATION:Paris Las Vegas Hotel
WEBSITE:
URL:
CONTACT:(702) 946-7000
ORGANIZER:RadPrep
ATTACH;FMTTYPE="image/jpeg":
ATTENDEE;ROLE=REQ-PARTICIPANT;PARTSTAT=ACCEPTED;RSVP=TRUE;CN="radRound
 s Radiology Events":https://community.radrounds.com/profile/radRoundsR
 adiologyEvents
END:VEVENT
END:VCALENDAR
