BEGIN:VCALENDAR
PRODID:NingEventWidget-v1
VERSION:2.0
METHOD:PUBLISH
BEGIN:VEVENT
UID:1791588:Event:116169
DTSTAMP:20260423T064245Z
SUMMARY:Key Strategies for Success in the Workplace
DESCRIPTION:Key Strategies for Success in the Workplace Saturday, Apri
 l 28, 2012 - Saturday, April 28, 2012Uvalde Memorial Hospital Uvalde, 
 Texas (TX), United StatesProvided by Advanced Health Education Center 
  CME Provider: Advanced Health Education Center 8502 Tybor DriveHousto
 n, Texas (TX) 77074United States\nToll Free: (800) 239-1361Phone: (713
 ) 772-0157Fax: (713) 772-0155\n\nConference Center:Uvalde Memorial Hos
 pital 1025 Garner Field RdUvalde, Texas (TX) 78801United States\nPhone
 : 830-278-6251\n Description:The current drivers for our healthcare sy
 stem are a stressed care delivery system and institutions going throug
 h change.\n• Tighter resources • Lack of direction • Greater dem
 ands • Safety • Quality • More competition • Uncertainty • I
 nability to adapt and change rapidly • Half born digital revolution\
 nJoin us in learning how to cope with changes in the workplace and cap
 italize on the opportunities that exist with change. Essential to any 
 significant change in health care is a change in the culture of health
 care delivery. Problems come from poor systems … not bad people. Dis
 cover how to improving your workplace makes everyone’s job less comp
 licated and more productive.\nSelf Assessment Module (SAM): No\nInstru
 ctors:Hubert Callahan, BS, RT(T)\nSpecialty Audience:Radiology\n\nFor 
 more information visit https://community.radrounds.com/events/key-stra
 tegies-for-success-in-the-workplace
DTSTART:20120428T040000Z
DTEND:20120429T035900Z
CATEGORIES:radiology
LOCATION:Uvalde Memorial Hospital
WEBSITE:http://www.umhtx.org/
URL:http://www.umhtx.org/
CONTACT:830-278-6251
ORGANIZER:Advanced Health Education Center
ATTACH;FMTTYPE="image/jpeg":
ATTENDEE;ROLE=REQ-PARTICIPANT;PARTSTAT=ACCEPTED;RSVP=TRUE;CN="radRound
 s Radiology Events":https://community.radrounds.com/profile/radRoundsR
 adiologyEvents
END:VEVENT
END:VCALENDAR
