BEGIN:VCALENDAR
PRODID:NingEventWidget-v1
VERSION:2.0
METHOD:PUBLISH
BEGIN:VEVENT
UID:1791588:Event:185269
DTSTAMP:20260424T020648Z
SUMMARY:Keeping Up With Advancements in Imaging (Live Event)
DESCRIPTION:Course Topics\n\nTBA\n\n\nFor more information visit https
 ://community.radrounds.com/events/keeping-up-with-advancements-in-imag
 ing-live-event-2
DTSTART:20190921T120000Z
DTEND:20190921T201500Z
CATEGORIES:live, event
LOCATION:UT Health Tyler
WEBSITE:http://store.aheconline.com
URL:http://store.aheconline.com
CONTACT:800-239-1361
ORGANIZER;CN="Larry Carney":https://community.radrounds.com/profile/La
 rryCarney
ATTACH;FMTTYPE="image/jpeg":
ATTENDEE;ROLE=REQ-PARTICIPANT;PARTSTAT=ACCEPTED;RSVP=TRUE;CN="Larry Ca
 rney":https://community.radrounds.com/profile/LarryCarney
END:VEVENT
END:VCALENDAR
