BEGIN:VCALENDAR
PRODID:NingEventWidget-v1
VERSION:2.0
METHOD:PUBLISH
BEGIN:VEVENT
UID:1791588:Event:179674
DTSTAMP:20260419T110337Z
SUMMARY:Kanal’s MRMD/MRSO MR Safety Training Course
DESCRIPTION:The American College of Radiology Guidance Document on MR 
 Safe Practices has solidly established itself as the standard of care 
 for how one should safely practice in the MR environment. In addition 
 to near universal acceptance throughout the radiologic community, it h
 as been repeatedly established in innumerable legal actions as the sta
 ndard against which our actions in this regard are judged. The ACR’s
  Guidance Document on MR Safe Practices calls for each MR site to name
  an MR Medical Director and/or MR Safety Officer, who would serve as t
 he ultimate authority and resource for all questions and decisions rel
 ated to MR safety. The recently published consensus document, “Recom
 mended responsibilities for management of Magnetic Resonance safety”
  calls for establishing and naming a Magnetic Resonance Medical Direct
 or, Magnetic Resonance Safety Officer, and a Magnetic Resonance Safety
  Expert to oversee safety in MR environments. In this regard, there is
  a significant shortage of individuals in the world today who have suf
 ficient background and knowledge in the subject matter to feel comfort
 able being named as the MR Medical Directors or MR Safety Officers for
  their MR imaging centers and sites. This course is specifically targe
 ted to support those whose job it is - or will be - to fulfill these r
 equirements of MR Medical Director or MR Safety Officer. For those con
 sidering becoming MR Safety Experts, this course is not intended to te
 ach or review the quantification algorithms required of this title/pos
 ition. It does, however, provide an exceedingly comprehensive introduc
 tion to and overview of all matters pertaining to MR safety, while sim
 ultaneously highlighting that which a reasonably trained MRMD and MRSO
  should be expected to know - and not know.\nRegister Here\n\nFor more
  information visit https://community.radrounds.com/events/kanal-s-mrmd
 -mrso-mr-safety-training-course-2
DTSTART:20181028T170000Z
DTEND:20181031T160000Z
CATEGORIES:conference
LOCATION:Walt Disney World Swan Hotel
WEBSITE:http://www.nwforums.com
URL:http://www.nwforums.com
CONTACT:(541) 683-4930
ORGANIZER:Northwest Imaging Forums, Inc.
ATTACH;FMTTYPE="image/jpeg":http://storage.ning.com/topology/rest/1.0/
 file/get/1044777490?profile=original
ATTENDEE;ROLE=REQ-PARTICIPANT;PARTSTAT=ACCEPTED;RSVP=TRUE;CN="Jenna Cr
 ye":https://community.radrounds.com/profile/JennaCrye
END:VEVENT
END:VCALENDAR
