BEGIN:VCALENDAR
PRODID:NingEventWidget-v1
VERSION:2.0
METHOD:PUBLISH
BEGIN:VEVENT
UID:1791588:Event:172069
DTSTAMP:20260421T111920Z
SUMMARY:Jump Start Monday: Imaging the Criminal Mind and Advancements 
 of Alzheimer's Imaging (Live Webinar)
DESCRIPTION:Course Topics\n\nNeuroimaging of the Criminal Mind\nAdvanc
 ements in Alzheimer's Imaging\n\n\nFor more information visit https://
 community.radrounds.com/events/jump-start-monday-imaging-the-criminal-
 mind-and-advancements-of-4
DTSTART:20170424T220000Z
DTEND:20170425T003000Z
CATEGORIES:live, webinar
LOCATION:Advanced Health Education Center
WEBSITE:https://store.aheconline.com/index.php?route=product/product&p
 ath=59_167&product_id=2992
URL:https://store.aheconline.com/index.php?route=product/product&path=
 59_167&product_id=2992
CONTACT:800-239-1361
ORGANIZER;CN="Larry Carney":https://community.radrounds.com/profile/La
 rryCarney
ATTACH;FMTTYPE="image/jpeg":
ATTENDEE;ROLE=REQ-PARTICIPANT;PARTSTAT=ACCEPTED;RSVP=TRUE;CN="Larry Ca
 rney":https://community.radrounds.com/profile/LarryCarney
END:VEVENT
END:VCALENDAR
