BEGIN:VCALENDAR
PRODID:NingEventWidget-v1
VERSION:2.0
METHOD:PUBLISH
BEGIN:VEVENT
UID:1791588:Event:168007
DTSTAMP:20260421T033339Z
SUMMARY:Jump Start Monday: Digital Imaging Modalities, Hybrid Imaging,
  and drug Smugglers in the Radiology Department [6:00pm CST]
DESCRIPTION:Course Topics\n\nWhat Do Digital Modalities Have in Common
 ?\nAdvantages of Hybrid Imaging\nRadiologic Diagnosis: Drug Smugglers 
 and Body Packers\n\nStart Time Based on Time Zone:\n\n7:00PM Eastern\n
 6:00PM Central\n5:00PM Mountain\n4:00PM Pacific\n3:00PM Alaska\n2:00PM
  Hawaii\n\n\nFor more information visit https://community.radrounds.co
 m/events/jump-start-monday-digital-imaging-modalities-hybrid-imaging-a
 nd
DTSTART:20160627T220000Z
DTEND:20160628T003000Z
CATEGORIES:webinar
LOCATION:Houston
WEBSITE:https://store.aheconline.com/index.php?route=product/product&p
 ath=59_167_191_337&product_id=2517
URL:https://store.aheconline.com/index.php?route=product/product&path=
 59_167_191_337&product_id=2517
CONTACT:1-800-239-1361
ORGANIZER;CN="Larry Carney":https://community.radrounds.com/profile/La
 rryCarney
ATTACH;FMTTYPE="image/jpeg":
ATTENDEE;ROLE=REQ-PARTICIPANT;PARTSTAT=ACCEPTED;RSVP=TRUE;CN="Larry Ca
 rney":https://community.radrounds.com/profile/LarryCarney
ATTENDEE;ROLE=REQ-PARTICIPANT;PARTSTAT=TENTATIVE;RSVP=TRUE;CN="Edward 
 Kendall":https://community.radrounds.com/profile/EdwardKendall
END:VEVENT
END:VCALENDAR
