BEGIN:VCALENDAR
PRODID:NingEventWidget-v1
VERSION:2.0
METHOD:PUBLISH
BEGIN:VEVENT
UID:1791588:Event:172274
DTSTAMP:20260421T161811Z
SUMMARY:Jump Start Monday: Assessing Pediatric Trauma and the Medical 
 Marijuana Conundrum (Live Webinar)
DESCRIPTION:Course Topics\n\nImaging Modalities for Trauma\nTypes of C
 hild Abuse and Neglect Seen in Imaging\nThe Pediatric Patient Overview
 \nRadiation Protection\nTechnical Tips for Pediatrics\nImmobilization 
 and Sedation\nMost Common Trauma Injuries\nThe Medical Conditions and 
 Administration of Marijuana\nThe Drug, Plant, Industry and Activist\nF
 ederal Crackdown and Recreational Use Legalized\nRadiology's Response\
 n\n\nFor more information visit https://community.radrounds.com/events
 /jump-start-monday-assessing-pediatric-trauma-and-the-medical
DTSTART:20170522T220000Z
DTEND:20170523T003000Z
CATEGORIES:live, webinar
LOCATION:Advanced Health Education Center
WEBSITE:https://store.aheconline.com/index.php?route=product/product&p
 ath=59_167&product_id=2961
URL:https://store.aheconline.com/index.php?route=product/product&path=
 59_167&product_id=2961
CONTACT:800-239-1361
ORGANIZER;CN="Larry Carney":https://community.radrounds.com/profile/La
 rryCarney
ATTACH;FMTTYPE="image/jpeg":
ATTENDEE;ROLE=REQ-PARTICIPANT;PARTSTAT=ACCEPTED;RSVP=TRUE;CN="Larry Ca
 rney":https://community.radrounds.com/profile/LarryCarney
END:VEVENT
END:VCALENDAR
