BEGIN:VCALENDAR
PRODID:NingEventWidget-v1
VERSION:2.0
METHOD:PUBLISH
BEGIN:VEVENT
UID:1791588:Event:176459
DTSTAMP:20260422T065730Z
SUMMARY:JFR-AIRP Radiologic Pathology Correlation Course
DESCRIPTION:Each year the SFR has a partnership with the American Inst
 itute for Radiologic Pathology (AIRP), and are pleased to welcome thre
 e eminent American speakers for nine sessions on RadPath Correlation:
  Drs. Aletta Frazier (Cardiovascular), Ellen Chung (Pediatric), and M
 ark Anderson (MSK). These sessions are planned on Saturday and Sunday,
  and will be translated simultaneously.\n\nFor more information visit 
 https://community.radrounds.com/events/jfr-airp-radiologic-pathology-c
 orrelation-course
DTSTART:20171014T040000Z
DTEND:20171016T035900Z
CATEGORIES:airp, radpath, correlation, course
LOCATION:Palais des Congrès
WEBSITE:http://jfr.radiologie.fr/jfr-congress/congress-goes-internatio
 nal
URL:http://jfr.radiologie.fr/jfr-congress/congress-goes-international
CONTACT:1-703-390-9881
ORGANIZER:Dr. Eric de Kerviler
ATTACH;FMTTYPE="image/jpeg":http://storage.ning.com/topology/rest/1.0/
 file/get/1044773289?profile=original
ATTENDEE;ROLE=REQ-PARTICIPANT;PARTSTAT=ACCEPTED;RSVP=TRUE;CN="Morgan W
 alters":https://community.radrounds.com/profile/MorganWalters
END:VEVENT
END:VCALENDAR
