BEGIN:VCALENDAR
PRODID:NingEventWidget-v1
VERSION:2.0
METHOD:PUBLISH
BEGIN:VEVENT
UID:1791588:Event:115962
DTSTAMP:20260424T125458Z
SUMMARY:ISMRM Workshop on Fat-Water Separation: Insights, Applications
  & Progress in MRI
DESCRIPTION:ISMRM Workshop on Fat-Water Separation: Insights, Applicat
 ions & Progress in MRI Sunday, February 19, 2012 - Wednesday, February
  22, 2012Hotel Maya Long Beach, California (CA), United StatesProvided
  by International Society for Magnetic Resonance in Medicine  CME Prov
 ider: International Society for Magnetic Resonance in Medicine Melisa 
 Martinez - Meetings Coordinator2030 Addison StreetSuite 700Berkeley, C
 alifornia (CA) 94704United States\nPhone: (510) 841-1899Fax: (510) 841
 -2340\n\nConference Center:Hotel Maya 700 Queensway DriveLong Beach, C
 alifornia (CA) United States\nPhone: (562) 435-7676\nDescription:This 
 will be the first ISMRM-sponsored workshop on fat-water MRI. Research 
 in diseases that involve abnormal fat accumulation in organs, muscles,
  and various body depots has increased significantly in recent years, 
 motivated partly by the rising prevalence of obesity worldwide. Over t
 he last decade, algorithms that robustly suppress fat and those design
 ed to accurately separate fat and water based on chemical-shift MRI ha
 ve been developed, as interest in fat-water separation methods grows s
 ignificantly.\nThe purpose of this workshop is to bring together inter
 nationally-recognized clinicians and researchers to review insights, p
 rogress, and findings in fat suppression and fat-water MRI over the pa
 st 30 years. It will cover the latest discoveries in qualitative fat-w
 ater separation and quantitative fat methodologies. Attendees will col
 lectively identify unsolved challenges and applications that need to b
 e further addressed, as well as discuss appropriate validation techniq
 ues, implementation considerations, and the consistent use and reporti
 ng of methodology and fat metrics in literature. The workshop will int
 egrate educational presentations encompassing a wide array of technica
 l and clinical topics. A poster session will promote interaction among
 st young and established investigators. Moderated sessions will compre
 hensively cover mathematical theory, performance limits, and data reco
 nstruction algorithms of fat-water imaging, as well as highlight new d
 iagnostic applications and future research opportunities.\nSelf Assess
 ment Module (SAM): No\nInstructors:Houchun Harry Hu, Ph.D.\nSpecialty 
 Audience:Radiology\n\nFor more information visit https://community.rad
 rounds.com/events/ismrm-workshop-on-fat-water-separation-insights-appl
 ications
DTSTART:20120219T050000Z
DTEND:20120223T045900Z
CATEGORIES:radiology
LOCATION:Hotel Maya
WEBSITE:http://doubletree1.hilton.com/en_US/dt/hotel/LGBMYDT-Hotel-May
 a-a-DoubleTree-by-Hilton-Hotel-California/index.do
URL:http://doubletree1.hilton.com/en_US/dt/hotel/LGBMYDT-Hotel-Maya-a-
 DoubleTree-by-Hilton-Hotel-California/index.do
CONTACT:(562) 435-7676
ORGANIZER:International Society for Magnetic Resonance in Medicine
ATTACH;FMTTYPE="image/jpeg":
ATTENDEE;ROLE=REQ-PARTICIPANT;PARTSTAT=ACCEPTED;RSVP=TRUE;CN="radRound
 s Radiology Events":https://community.radrounds.com/profile/radRoundsR
 adiologyEvents
END:VEVENT
END:VCALENDAR
