BEGIN:VCALENDAR
PRODID:NingEventWidget-v1
VERSION:2.0
METHOD:PUBLISH
BEGIN:VEVENT
UID:1791588:Event:183813
DTSTAMP:20260420T172015Z
SUMMARY:Is Marijuana the Best Medicine? (Live Webinar)
DESCRIPTION:Course Topics\n\nMedical Marijuana Statistics\nSurvey of T
 echnologists and Radiologists Opinions on Medical Marijuana\nDrug Sche
 duling\nMedical Conditions:  Myths, History and Legends\nThe Drug, Th
 e Plant, The Industry, and The Activist\nCannabis Politics and Recreat
 ional Use Legalization\nUse in Other Parts of World\n\n\nFor more info
 rmation visit https://community.radrounds.com/events/is-marijuana-the-
 best-medicine-live-webinar-6
DTSTART:20180924T170000Z
DTEND:20180924T180000Z
CATEGORIES:live, webinar
LOCATION:Advanced Health Education Center
WEBSITE:https://store.aheconline.com/
URL:https://store.aheconline.com/
CONTACT:800-239-1361
ORGANIZER;CN="Larry Carney":https://community.radrounds.com/profile/La
 rryCarney
ATTACH;FMTTYPE="image/jpeg":
ATTENDEE;ROLE=REQ-PARTICIPANT;PARTSTAT=ACCEPTED;RSVP=TRUE;CN="Larry Ca
 rney":https://community.radrounds.com/profile/LarryCarney
END:VEVENT
END:VCALENDAR
