BEGIN:VCALENDAR
PRODID:NingEventWidget-v1
VERSION:2.0
METHOD:PUBLISH
BEGIN:VEVENT
UID:1791588:Event:159132
DTSTAMP:20260421T031338Z
SUMMARY:Introduction to Ultrasound for Intensivists,  Emergency Room S
 taff, and New Technologists 2015
DESCRIPTION:Requested by Attending Faculty at Harvard Medical School f
 or critical care, this course goes deeper than just a protocol, all in
  a weekend.   Gain authority with the instrument as you apply it to t
 he complete protocols for the FAST and RUSH exams.  It all serves as 
 the platform for your further competence in any clinical application.\
 n \n\n\nFor more information visit https://community.radrounds.com/ev
 ents/introduction-to-ultrasound-for-intensivists-emergency-room-staff
DTSTART:20151205T140000Z
DTEND:20151206T200000Z
CATEGORIES:continuing, education, course
LOCATION:The Hyatt House Suites Hotel
WEBSITE:http://www.kmaultrasound.com
URL:http://www.kmaultrasound.com
CONTACT:(800) 845-3484, (972) 353-3200
ORGANIZER:Keith Mauney & Associates Ultrasound Training Institutes
ATTACH;FMTTYPE="image/jpeg":http://storage.ning.com/topology/rest/1.0/
 file/get/1044766005?profile=original
ATTENDEE;ROLE=REQ-PARTICIPANT;PARTSTAT=ACCEPTED;RSVP=TRUE;CN="Keith A.
  Mauney":https://community.radrounds.com/profile/KeithAMauney
END:VEVENT
END:VCALENDAR
