BEGIN:VCALENDAR
PRODID:NingEventWidget-v1
VERSION:2.0
METHOD:PUBLISH
BEGIN:VEVENT
UID:1791588:Event:158991
DTSTAMP:20260421T045116Z
SUMMARY:Introduction to Ultrasound for Intensivists, Emergency Room St
 aff, and New Technologists 2015
DESCRIPTION:\n\nLearn it right the first time.\nIt's a refreshingly pl
 easant, low-stress approach to the complex science of acoustic and ele
 ctronic engineering physics principles. The course demystifies the dry
  and often confusing elements surrounding ultrasound imaging and, espe
 cially, the machine controls. Our focus is on the technology and its p
 roper and optimal use for any application.  When you separately begin
  to build your protocols and procedures for a specific organ system yo
 u'll be ready to make the machine work for you.  After hours the Scan
  Lab is open for your optional self-guided practice on technique and s
 ystem controls on yourself or your peers from class. You can even brin
 g your own equipment to fine tune your technique.\nFor learners new to
  ultrasound, this course is recommended preparation for our fast track
  hands-on courses.\n \n\nFor more information visit https://community
 .radrounds.com/events/introduction-to-ultrasound-for-intensivists-emer
 gency-room-staf-4
DTSTART:20150509T130000Z
DTEND:20150510T190000Z
CATEGORIES:hands-on, ultrasound, training, er, icu, critical_care, pro
 gram
LOCATION:The Hilton Homewood Suites Hotel in Las Colinas
WEBSITE:https://kmaultrasound.com/lodging-conference-site.html
URL:https://kmaultrasound.com/lodging-conference-site.html
CONTACT:(800) 845-3484, (972) 353-3200
ORGANIZER:Keith Mauney & Associates Ultrasound Training Institutes
ATTACH;FMTTYPE="image/jpeg":http://storage.ning.com/topology/rest/1.0/
 file/get/1044764966?profile=original
ATTENDEE;ROLE=REQ-PARTICIPANT;PARTSTAT=ACCEPTED;RSVP=TRUE;CN="Keith A.
  Mauney":https://community.radrounds.com/profile/KeithAMauney
END:VEVENT
END:VCALENDAR
