BEGIN:VCALENDAR
PRODID:NingEventWidget-v1
VERSION:2.0
METHOD:PUBLISH
BEGIN:VEVENT
UID:1791588:Event:158986
DTSTAMP:20260421T045116Z
SUMMARY:Introduction to Ultrasound for Intensivists, Emergency Room St
 aff, and New Technologists 2015
DESCRIPTION:\nLearn it right the first time.\nIt's a refreshingly plea
 sant, low-stress approach to the complex science of acoustic and elect
 ronic engineering physics principles. The course demystifies the dry a
 nd often confusing elements surrounding ultrasound imaging and, especi
 ally, the machine controls. Our focus is on the technology and its pro
 per and optimal use for any application.  When you separately begin t
 o build your protocols and procedures for a specific organ system you'
 ll be ready to make the machine work for you.  After hours the Scan L
 ab is open for you optional self-guided practice on technique and syst
 em controls on yourself or your peers from class. You can even bring y
 our own equipment to fine tune your technique.\nFor learners new to ul
 trasound, this course is recommended preparation for our fast track ha
 nds-on courses.\n\nFor more information visit https://community.radrou
 nds.com/events/introduction-to-ultrasound-for-intensivists-emergency-r
 oom-staf-3
DTSTART:20150314T130000Z
DTEND:20150315T190000Z
CATEGORIES:hands-on, ultrasound, training, er, icu, critical_care, pro
 gram
LOCATION:The Hilton Homewood Suites Hotel in Las Colinas
WEBSITE:https://kmaultrasound.com/lodging-conference-site.html
URL:https://kmaultrasound.com/lodging-conference-site.html
CONTACT:(800) 845-3484, (972) 353-3200
ORGANIZER:Keith Mauney & Associates Ultrasound Training Institutes
ATTACH;FMTTYPE="image/jpeg":http://storage.ning.com/topology/rest/1.0/
 file/get/1044764787?profile=original
ATTENDEE;ROLE=REQ-PARTICIPANT;PARTSTAT=ACCEPTED;RSVP=TRUE;CN="Keith A.
  Mauney":https://community.radrounds.com/profile/KeithAMauney
END:VEVENT
END:VCALENDAR
