BEGIN:VCALENDAR
PRODID:NingEventWidget-v1
VERSION:2.0
METHOD:PUBLISH
BEGIN:VEVENT
UID:1791588:Event:159146
DTSTAMP:20260422T021745Z
SUMMARY:Introduction to Ultrasound for Intensivists, Emergency Room St
 aff, and New Technologists 2015
DESCRIPTION:Learn it right the first time.\nIt's a refreshingly pleasa
 nt, low-stress approach to the complex science of acoustic and electro
 nic engineering physics principles. The course demystifies the dry and
  often confusing elements surrounding ultrasound imaging and, especial
 ly, the machine controls. Our focus is on the technology and its prope
 r and optimal use for any application.  When you separately begin to 
 build your protocols and procedures for a specific organ system you'll
  be ready to make the machine work for you.  After hours the Scan Lab
  is open for you optional self-guided practice on technique and system
  controls on yourself or your peers from class. You can even bring you
 r own equipment to fine tune your technique.\n\nFor more information v
 isit https://community.radrounds.com/events/introduction-to-ultrasound
 -for-intensivists-emergency-room-staf-2
DTSTART:20150214T140000Z
DTEND:20150215T200000Z
CATEGORIES:hands-on, ultrasound, training, er, icu, critical_care, pro
 gram
LOCATION:The Hilton Homewood Suites Hotel
WEBSITE:https://www.google.com/maps/place/4300+Wingren+Dr,+Irving,+TX+
 75039/@32.8635509,-96.9380366,17z/data=!3m1!4b1!4m2!3m1!1s0x864e82c0af
 de2153:0xb840293bcb23797e
URL:https://www.google.com/maps/place/4300+Wingren+Dr,+Irving,+TX+7503
 9/@32.8635509,-96.9380366,17z/data=!3m1!4b1!4m2!3m1!1s0x864e82c0afde21
 53:0xb840293bcb23797e
CONTACT:(800) 845-3484, (972) 353-3200
ORGANIZER:Amy Donaldson
ATTACH;FMTTYPE="image/jpeg":http://storage.ning.com/topology/rest/1.0/
 file/get/1044765471?profile=original
ATTENDEE;ROLE=REQ-PARTICIPANT;PARTSTAT=ACCEPTED;RSVP=TRUE;CN="Keith A.
  Mauney":https://community.radrounds.com/profile/KeithAMauney
END:VEVENT
END:VCALENDAR
