BEGIN:VCALENDAR
PRODID:NingEventWidget-v1
VERSION:2.0
METHOD:PUBLISH
BEGIN:VEVENT
UID:1791588:Event:158949
DTSTAMP:20260421T063419Z
SUMMARY:Introduction to Ultrasound for Intensivists,  Emergency Room S
 taff, and New Technologists 2015
DESCRIPTION:Requested by Attending Faculty at Harvard Medical School f
 or critical care, this course goes deeper than just a protocol, all in
  a weekend. Gain authority with the instrument as you apply it to the 
 complete protocols for the FAST and RUSH exams. It all serves as the p
 latform for your further competence in any clinical application.\n\nFo
 r more information visit https://community.radrounds.com/events/introd
 uction-to-ultrasound-for-intensivists-emergency-room-staf-1
DTSTART:20150117T140000Z
DTEND:20150118T200000Z
CATEGORIES:training, cme, course
LOCATION:The Hyatt House Suites Hotel
WEBSITE:http://www.kmaultrasound.com
URL:http://www.kmaultrasound.com
CONTACT:(800) 845-3484, (972) 353-3200
ORGANIZER:Keith Mauney & Associates Ultrasound Training Institutes
ATTACH;FMTTYPE="image/jpeg":http://storage.ning.com/topology/rest/1.0/
 file/get/1044764743?profile=original
ATTENDEE;ROLE=REQ-PARTICIPANT;PARTSTAT=ACCEPTED;RSVP=TRUE;CN="Keith A.
  Mauney":https://community.radrounds.com/profile/KeithAMauney
END:VEVENT
END:VCALENDAR
