BEGIN:VCALENDAR
PRODID:NingEventWidget-v1
VERSION:2.0
METHOD:PUBLISH
BEGIN:VEVENT
UID:1791588:Event:159302
DTSTAMP:20260421T195914Z
SUMMARY:Introduction to Ultrasound for Intensivists, Emergency Room St
 aff, and New Technologists 2015
DESCRIPTION:Learn it right the first time.\nIt's a refreshingly pleasa
 nt, low-stress approach to the complex science of acoustic and electro
 nic engineering physics principles. The course demystifies the dry and
  often confusing elements surrounding ultrasound imaging and, especial
 ly, the machine controls. Our focus is on the technology and its prope
 r and optimal use for any application.  When you separately begin to 
 build your protocols and procedures for a specific organ system you'll
  be ready to make the machine work for you.  After hours the Scan Lab
  is open for your optional self-guided practice on technique and syste
 m controls on yourself or your peers from class. You can even bring yo
 ur own equipment to fine tune your technique.\nFor learners new to ult
 rasound, this course is recommended preparation for our fast track han
 ds-on courses.\n \n\nFor more information visit https://community.rad
 rounds.com/events/introduction-to-ultrasound-for-intensivists-emergenc
 y-room-sta-10
DTSTART:20151107T140000Z
DTEND:20151108T200000Z
CATEGORIES:hands-on, ultrasound, training, er, icu, critical_care, pro
 gram
LOCATION:The Hilton Homewood Suites Hotel in Las Colinas
WEBSITE:http://kmaultrasound.com/lodging-conference-site.html
URL:http://kmaultrasound.com/lodging-conference-site.html
CONTACT:(800) 845-3484, (972) 353-3200
ORGANIZER:Keith Mauney & Associates Ultrasound Training Institutes
ATTACH;FMTTYPE="image/jpeg":http://storage.ning.com/topology/rest/1.0/
 file/get/1044762733?profile=original
ATTENDEE;ROLE=REQ-PARTICIPANT;PARTSTAT=ACCEPTED;RSVP=TRUE;CN="Keith A.
  Mauney":https://community.radrounds.com/profile/KeithAMauney
END:VEVENT
END:VCALENDAR
