BEGIN:VCALENDAR
PRODID:NingEventWidget-v1
VERSION:2.0
METHOD:PUBLISH
BEGIN:VEVENT
UID:1791588:Event:164711
DTSTAMP:20260420T165023Z
SUMMARY:Introduction to Transcranial Doppler Ultrasound
DESCRIPTION:The Introduction to Transcranial Doppler hands-on course i
 s designed to provide a strong foundation to perform and/or interpret 
 Transcranial Doppler and Transcranial color flow imaging examinations.
  This intro to TCD course includes lectures, interactive case studies,
  pathology simulation, and extensive hands on scanning featuring a 3:1
  hands-on ratio using live models and an interactive pathology simulat
 or.\n\nFor more information visit https://community.radrounds.com/even
 ts/introduction-to-transcranial-doppler-ultrasound-2
DTSTART:20160505T040000Z
DTEND:20160507T035900Z
CATEGORIES:ultrasound, cme, seminar
LOCATION:Gulfcoast Ultrasound Institute, Inc.
WEBSITE:https://www.gcus.com/courses/about.asp?course=935/Introduction
 -to-Transcranial-Doppler-Ultrasound
URL:https://www.gcus.com/courses/about.asp?course=935/Introduction-to-
 Transcranial-Doppler-Ultrasound
CONTACT:800-619-1900
ORGANIZER;CN="Casey Green":https://community.radrounds.com/profile/Jam
 esSalame
ATTACH;FMTTYPE="image/jpeg":
ATTENDEE;ROLE=REQ-PARTICIPANT;PARTSTAT=ACCEPTED;RSVP=TRUE;CN="Casey Gr
 een":https://community.radrounds.com/profile/JamesSalame
END:VEVENT
END:VCALENDAR
