BEGIN:VCALENDAR
PRODID:NingEventWidget-v1
VERSION:2.0
METHOD:PUBLISH
BEGIN:VEVENT
UID:1791588:Event:160920
DTSTAMP:20260421T174028Z
SUMMARY:Introduction to Peripheral Vascular Duplex/Color Flow Imaging 
 - Hands-On Only Workshop
DESCRIPTION:The Introduction to Peripheral Vascular Duplex/Color Flow 
 Imaging hands-on only workshop is taught by leading vascular ultrasoun
 d experts. The peripheral vascular duplex/color flow scan only course 
 is open to participants who have completed a previous live or online G
 CUS peripheral vascular duplex/color course. The scanning is conducted
  during the afternoon and provides extensive hands-on scanning featuri
 ng a 3:1 ratio with live models, for a realistic training experience.Â
  The Peripheral Ultrasound protocols are taught in accordance with AIU
 M and IAC guidelines. In addition, the hands-on Peripheral vascular Ul
 trasound scanning only workshop provides additional skills training fo
 r upper and lower extremity venous and arterial testing to begin integ
 rating the techniques learned into clinical practice.\n\nFor more info
 rmation visit https://community.radrounds.com/events/introduction-to-p
 eripheral-vascular-duplex-color-flow-imaging-7
DTSTART:20150611T040000Z
DTEND:20150613T035900Z
CATEGORIES:ultrasound, cme, seminar
LOCATION:Gulfcoast Ultrasound Institute, Inc.
WEBSITE:https://www.gcus.com/courses/about.asp?course=841/Introduction
 -to-Peripheral-Vascular-Duplex-Color-Flow-Imaging-Hands-On-Only-Worksh
 op
URL:https://www.gcus.com/courses/about.asp?course=841/Introduction-to-
 Peripheral-Vascular-Duplex-Color-Flow-Imaging-Hands-On-Only-Workshop
CONTACT:800.619.1900
ORGANIZER;CN="Casey Green":https://community.radrounds.com/profile/Jam
 esSalame
ATTACH;FMTTYPE="image/jpeg":
ATTENDEE;ROLE=REQ-PARTICIPANT;PARTSTAT=ACCEPTED;RSVP=TRUE;CN="Casey Gr
 een":https://community.radrounds.com/profile/JamesSalame
END:VEVENT
END:VCALENDAR
