BEGIN:VCALENDAR
PRODID:NingEventWidget-v1
VERSION:2.0
METHOD:PUBLISH
BEGIN:VEVENT
UID:1791588:Event:186257
DTSTAMP:20260421T074512Z
SUMMARY:INTRODUCTION TO PERIPHERAL VASCULAR DUPLEX/COLOR FLOW IMAGING
DESCRIPTION:Introduction to Peripheral Vascular Duplex/Color Flow Imag
 ing Live Training Course is taught by leading vascular ultrasound expe
 rts, with a 3:1 faculty to participant hands-on scan ratio and is spec
 ifically designed for physicians, sonographers and other medical profe
 ssionals who need a strong foundation to begin performing and/or inter
 preting upper & lower extremity peripheral arterial and venous ultraso
 und examinations. GCUS offers (2) Two Day peripheral vascular ultrasou
 nd courses at our facility in St. Petersburg, FL that includes a revie
 w of 65+ peripheral vascular ultrasound examinations. GCUS offers peri
 pheral vascular ultrasound training as a stand alone (2) Two Day cours
 e, or as part of a (4) Four Day vascular ultrasound training and CME p
 rogram. In the (4) Four Day vascular program, participants will learn 
 ultrasound techniques for the entire vascular system. All protocols ar
 e taught in accordance with AIUM & IAC guidelines.\n\nFor more informa
 tion visit https://community.radrounds.com/events/introduction-to-peri
 pheral-vascular-duplex-color-flow-imaging-15
DTSTART:20191016T114500Z
DTEND:20191017T203000Z
CATEGORIES:live, cme, seminar
LOCATION:Gulfcoast Ultrasound Institute
WEBSITE:https://www.gcus.com/
URL:https://www.gcus.com/
CONTACT:727-363-4500
ORGANIZER:Gulfcoast Ultrasound Institute, Inc
ATTACH;FMTTYPE="image/jpeg":https://storage.ning.com/topology/rest/1.0
 /file/get/544043607?profile=original
ATTENDEE;ROLE=REQ-PARTICIPANT;PARTSTAT=ACCEPTED;RSVP=TRUE;CN="Casey Gr
 een":https://community.radrounds.com/profile/JamesSalame
END:VEVENT
END:VCALENDAR
