BEGIN:VCALENDAR
PRODID:NingEventWidget-v1
VERSION:2.0
METHOD:PUBLISH
BEGIN:VEVENT
UID:1791588:Event:170243
DTSTAMP:20260421T161116Z
SUMMARY:Introduction to Peripheral Vascular Duplex/Color Flow Imaging
DESCRIPTION:The Introduction to Peripheral Vascular Ultrasound Course 
 is the first step in obtaining a strong foundation to begin performing
  and/or interpreting upper & lower extremity peripheral arterial and v
 enous ultrasound examinations. This course is taught by leading vascul
 ar ultrasound experts and includes lectures, interactive case presenta
 tions, and extensive hands-on scanning, featuring a 3:1 ratio with liv
 e models and knowledgeable hands on instructors.\n\nObjectives\n\nIncr
 ease the participant’s knowledge to better perform and/or interpret 
 upper and lower Peripheral Vascular ultrasound examinations.\nApply kn
 owledge of the anatomy/physiology of the upper and lower extremity ven
 ous and arterial systems into the venous and arterial duplex and physi
 ologic testing examinations.\nCite Doppler/color physics and be able t
 o (sonographers) apply these principles to optimize system controls or
  (physicians) utilize this information for recognizing technical error
 s which may result in misdiagnosis.\nPerform routine scan protocols, a
 nd document Doppler waveforms for lower extremity arterial and venous 
 evaluations of the upper and lower extremity.\nDifferentiate normal/ab
 normal imaging, spectral Doppler and color characteristics for identif
 ying arterial and venous disease.\nState the indications and applicati
 ons of indirect testing methods for lower arterial disease.\nDemonstra
 te vein mapping techniques to identify suitability as a potential arte
 rial bypass graft.\nPerform routine scan protocols and document Dopple
 r waveforms for venous evaluation of the lower extremities, including 
 pre and post vein ablation evaluation.\nState the role of ultrasound i
 n the diagnosis and treatment of venous insufficiency.\nPerform evalua
 tion for venous insufficiency and patency of perforators for vein ther
 apy treatment\n\n \n\nTopics\n\nVenous Anatomy, Scan Techniques & Nor
 mal Characteristics\nDuplex / Color Evaluation of LE, UE DVT\nEvaluati
 on of Venous Insufficiency\nDuplex / Color Evaluation for Venous Ablat
 ion Procedures\nTypes of Vein Ablation Procedures\nPre-Procedure Mappi
 ng\nPost-procedure Mapping\nLE Arterial Anatomy & Physiology\nClinical
  Exam & Indirect Testing\nDirect Testing & Duplex Scanning\nLive Demo:
  Arterial Duplex of Lower Arterial Disease\n\n\nFor more information v
 isit https://community.radrounds.com/events/introduction-to-peripheral
 -vascular-duplex-color-flow-imaging-13
DTSTART:20171026T110000Z
DTEND:20171027T210000Z
CATEGORIES:cme, conference
LOCATION:Gulfcoast Ultrasound Institute
WEBSITE:https://www.gcus.com/courses/about.asp?course=1087/Introductio
 n-to-Peripheral-Vascular-Duplex-Color-Flow-Imaging
URL:https://www.gcus.com/courses/about.asp?course=1087/Introduction-to
 -Peripheral-Vascular-Duplex-Color-Flow-Imaging
CONTACT:7273634500
ORGANIZER:Gulfcoast Ultrasound Institute, Inc
ATTACH;FMTTYPE="image/jpeg":http://storage.ning.com/topology/rest/1.0/
 file/get/1044771981?profile=original
ATTENDEE;ROLE=REQ-PARTICIPANT;PARTSTAT=ACCEPTED;RSVP=TRUE;CN="Casey Gr
 een":https://community.radrounds.com/profile/JamesSalame
END:VEVENT
END:VCALENDAR
