BEGIN:VCALENDAR
PRODID:NingEventWidget-v1
VERSION:2.0
METHOD:PUBLISH
BEGIN:VEVENT
UID:1791588:Event:170111
DTSTAMP:20260422T174837Z
SUMMARY:Introduction to Peripheral Vascular Duplex/Color Flow Imaging
DESCRIPTION:Introduction to Peripheral Vascular Duplex/Color Flow Imag
 ing\nThe Introduction to Peripheral Vascular Ultrasound Course is the 
 first step in obtaining a strong foundation to begin performing and/or
  interpreting upper & lower extremity peripheral arterial and venous u
 ltrasound examinations. This course is taught by leading vascular ultr
 asound experts and includes lectures, interactive case presentations, 
 and extensive hands-on scanning, featuring a 3:1 ratio with live model
 s and knowledgeable hands on instructors.\nObjectives\n\nIncrease the 
 participant’s knowledge to better perform and/or interpret upper and
  lower Peripheral Vascular ultrasound examinations.\nApply knowledge o
 f the anatomy/physiology of the upper and lower extremity venous and a
 rterial systems into the venous and arterial duplex and physiologic te
 sting examinations.\nCite Doppler/color physics and be able to (sonogr
 aphers) apply these principles to optimize system controls or (physici
 ans) utilize this information for recognizing technical errors which m
 ay result in misdiagnosis.\nPerform routine scan protocols, and docume
 nt Doppler waveforms for lower extremity arterial and venous evaluatio
 ns of the upper and lower extremity.\nDifferentiate normal/abnormal im
 aging, spectral Doppler and color characteristics for identifying arte
 rial and venous disease.\nState the indications and applications of in
 direct testing methods for lower arterial disease.\nDemonstrate vein m
 apping techniques to identify suitability as a potential arterial bypa
 ss graft.\nPerform routine scan protocols and document Doppler wavefor
 ms for venous evaluation of the lower extremities, including pre and p
 ost vein ablation evaluation.\nState the role of ultrasound in the dia
 gnosis and treatment of venous insufficiency.\nPerform evaluation for 
 venous insufficiency and patency of perforators for vein therapy treat
 ment\n\n\n\nTopics\n\nVenous Anatomy, Scan Techniques & Normal Charact
 eristics\nDuplex / Color Evaluation of LE, UE DVT\nEvaluation of Venou
 s Insufficiency\nDuplex / Color Evaluation for Venous Ablation Procedu
 res\nTypes of Vein Ablation Procedures\nPre-Procedure Mapping\nPost-pr
 ocedure Mapping\nLE Arterial Anatomy & Physiology\nClinical Exam & Ind
 irect Testing\nDirect Testing & Duplex Scanning\nLive Demo: Arterial D
 uplex of Lower Arterial Disease\n\n\n\nFor more information visit http
 s://community.radrounds.com/events/introduction-to-peripheral-vascular
 -duplex-color-flow-imaging-12
DTSTART:20170511T110000Z
DTEND:20170512T210000Z
CATEGORIES:cme, conference
LOCATION:Gulfcoast Ultrasound Institute
WEBSITE:https://www.gcus.com/courses/about.asp?course=1086/Introductio
 n-to-Peripheral-Vascular-Duplex-Color-Flow-Imaging
URL:https://www.gcus.com/courses/about.asp?course=1086/Introduction-to
 -Peripheral-Vascular-Duplex-Color-Flow-Imaging
CONTACT:17273634500
ORGANIZER:GCUS
ATTACH;FMTTYPE="image/jpeg":http://storage.ning.com/topology/rest/1.0/
 file/get/1044771752?profile=original
ATTENDEE;ROLE=REQ-PARTICIPANT;PARTSTAT=ACCEPTED;RSVP=TRUE;CN="Casey Gr
 een":https://community.radrounds.com/profile/JamesSalame
END:VEVENT
END:VCALENDAR
