BEGIN:VCALENDAR
PRODID:NingEventWidget-v1
VERSION:2.0
METHOD:PUBLISH
BEGIN:VEVENT
UID:1791588:Event:164609
DTSTAMP:20260420T202356Z
SUMMARY:Introduction to Peripheral Vascular Duplex/Color Flow Imaging
DESCRIPTION:The Introduction to Peripheral Vascular Ultrasound Course 
 is the first step in obtaining a strong foundation to begin performing
  and/or interpreting upper & lower extremity peripheral arterial and v
 enous ultrasound examinations. This course is taught by leading vascul
 ar ultrasound experts and includes lectures, interactive case presenta
 tions, and extensive hands-on scanning, featuring a 3:1 ratio with liv
 e models and knowledgeable hands on instructors.\n\nFor more informati
 on visit https://community.radrounds.com/events/introduction-to-periph
 eral-vascular-duplex-color-flow-imaging-10
DTSTART:20160505T040000Z
DTEND:20160507T035900Z
CATEGORIES:ultrasound, cme, seminar
LOCATION:Gulfcoast Ultrasound Institute, Inc.
WEBSITE:https://www.gcus.com/courses/about.asp?course=934/Introduction
 -to-Peripheral-Vascular-Duplex-Color-Flow-Imaging
URL:https://www.gcus.com/courses/about.asp?course=934/Introduction-to-
 Peripheral-Vascular-Duplex-Color-Flow-Imaging
CONTACT:800-619-1900
ORGANIZER;CN="Casey Green":https://community.radrounds.com/profile/Jam
 esSalame
ATTACH;FMTTYPE="image/jpeg":
ATTENDEE;ROLE=REQ-PARTICIPANT;PARTSTAT=ACCEPTED;RSVP=TRUE;CN="Casey Gr
 een":https://community.radrounds.com/profile/JamesSalame
END:VEVENT
END:VCALENDAR
