BEGIN:VCALENDAR
PRODID:NingEventWidget-v1
VERSION:2.0
METHOD:PUBLISH
BEGIN:VEVENT
UID:1791588:Event:179352
DTSTAMP:20260420T044903Z
SUMMARY:Introduction to OB Ultrasound
DESCRIPTION:This course is designed for the healthcare professional wh
 o has not performed ultrasound procedures. Expedite your patient’s d
 iagnosis with the tools and techniques needed to obtain a diagnostic i
 mage with ultrasound.  This three-day program combines lecture and su
 pervised hands-on scan experience on live models for the healthcare pr
 ofessional. Content presented will include an introduction to ultrasou
 nd instrumentation and female anatomy. Both transabdominal and endovag
 inal scanning techniques will be discussed. Fetal measurements, anomal
 ies, BPP and placenta will be discussed.\n\nFor more information visit
  https://community.radrounds.com/events/introduction-to-ob-ultrasound
DTSTART:20180104T130000Z
DTEND:20180106T211500Z
CATEGORIES:live, event
LOCATION:Advanced Health Education Center
WEBSITE:https://store.aheconline.com/index.php?route=product/product&a
 mp;path=59_83&amp;product_id=3474
URL:https://store.aheconline.com/index.php?route=product/product&amp;p
 ath=59_83&amp;product_id=3474
CONTACT:800-239-1361
ORGANIZER;CN="Larry Carney":https://community.radrounds.com/profile/La
 rryCarney
ATTACH;FMTTYPE="image/jpeg":
ATTENDEE;ROLE=REQ-PARTICIPANT;PARTSTAT=ACCEPTED;RSVP=TRUE;CN="Larry Ca
 rney":https://community.radrounds.com/profile/LarryCarney
END:VEVENT
END:VCALENDAR
