BEGIN:VCALENDAR
PRODID:NingEventWidget-v1
VERSION:2.0
METHOD:PUBLISH
BEGIN:VEVENT
UID:1791588:Event:160937
DTSTAMP:20260421T145745Z
SUMMARY:Introduction to OB/GYN Ultrasound Education
DESCRIPTION:This three-day OB-GYN hands-on ultrasound course provides 
 a strong foundation to perform and/or interpret OB-GYN ultrasound exam
 inations using transabdominal and endovaginal techniques. The course i
 s taught by leading ultrasound experts and includes lectures, interact
 ive case presentations using an audience response system, and extensiv
 e hands-on scanning, featuring a 3:1 ratio with live models for a real
 istic training experience. Topics include imaging fundamentals, scan p
 rotocols, GYN anatomy & pathology, first trimester ultrasound, Sonogra
 phy in the 2nd and 3rd trimester, fetal biometry, fetal heart screenin
 g & fetal abnormalities.\n\nFor more information visit https://communi
 ty.radrounds.com/events/introduction-to-ob-gyn-ultrasound-education
DTSTART:20151112T050000Z
DTEND:20151115T045900Z
CATEGORIES:ultrasound, cme, seminar
LOCATION:Gulfcoast Ultrasound Institute, Inc.
WEBSITE:https://www.gcus.com/courses/about.asp?course=872/Introduction
 -to-OB-GYN-Ultrasound-Education
URL:https://www.gcus.com/courses/about.asp?course=872/Introduction-to-
 OB-GYN-Ultrasound-Education
CONTACT:800.619.1900
ORGANIZER;CN="Casey Green":https://community.radrounds.com/profile/Jam
 esSalame
ATTACH;FMTTYPE="image/jpeg":
ATTENDEE;ROLE=REQ-PARTICIPANT;PARTSTAT=ACCEPTED;RSVP=TRUE;CN="Casey Gr
 een":https://community.radrounds.com/profile/JamesSalame
END:VEVENT
END:VCALENDAR
