BEGIN:VCALENDAR
PRODID:NingEventWidget-v1
VERSION:2.0
METHOD:PUBLISH
BEGIN:VEVENT
UID:1791588:Event:164713
DTSTAMP:20260421T024220Z
SUMMARY:Introduction to OB/GYN Ultrasound Education
DESCRIPTION:The Introduction to OB-GYN Ultrasound training course is t
 aught by leading experts covering transabdominal and endovaginal scan 
 techniques and OB applications. This unique course incorporates compre
 hensive lectures, interactive case presentations, and extensive hands-
 on scanning, featuring a 3:1 ratio with live models.\n\nFor more infor
 mation visit https://community.radrounds.com/events/introduction-to-ob
 -gyn-ultrasound-education-2
DTSTART:20160609T040000Z
DTEND:20160612T035900Z
CATEGORIES:ultrasound, cme, seminar
LOCATION:Gulfcoast Ultrasound Institute, Inc.
WEBSITE:https://www.gcus.com/courses/about.asp?course=937/Introduction
 -to-OB-GYN-Ultrasound
URL:https://www.gcus.com/courses/about.asp?course=937/Introduction-to-
 OB-GYN-Ultrasound
CONTACT:800-619-1900
ORGANIZER;CN="Casey Green":https://community.radrounds.com/profile/Jam
 esSalame
ATTACH;FMTTYPE="image/jpeg":
ATTENDEE;ROLE=REQ-PARTICIPANT;PARTSTAT=ACCEPTED;RSVP=TRUE;CN="Casey Gr
 een":https://community.radrounds.com/profile/JamesSalame
END:VEVENT
END:VCALENDAR
