BEGIN:VCALENDAR
PRODID:NingEventWidget-v1
VERSION:2.0
METHOD:PUBLISH
BEGIN:VEVENT
UID:1791588:Event:185525
DTSTAMP:20260420T190341Z
SUMMARY:INTRODUCTION TO MUSCULOSKELETAL ULTRASOUND WITH OPTIONAL INTER
 VENTIONAL CADAVER LAB
DESCRIPTION:Introduction to Musculoskeletal Ultrasound with Optional I
 nterventional Cadaver Lab Live Training Course provides participants a
  comprehensive introduction to musculoskeletal ultrasound on topics ba
 sed on AIUM practice guidelines. These courses are taught by leading m
 usculoskeletal ultrasound experts that incorporates comprehensive lect
 ures and interactive case presentations featuring a 3:1 faculty to par
 ticipant hands-on scan ratio with live models, phantoms and human cada
 ver labs. Introduction to Musculoskeletal Ultrasound with Optional Int
 erventional Cadaver Lab Training Courses are specifically designed for
  physicians, sonographers and other medical professionals who need mus
 culoskeletal ultrasound training. GCUS offers three (3) day introducti
 on to musculoskeletal ultrasound with optional interventional cadaver 
 lab courses at our facility in St. Petersburg, FL. These courses are h
 eld at multiple dates throughout the year, making it the perfect cours
 es for both local participants and participants traveling to Florida. 
 GCUS offers introduction to musculoskeletal ultrasound with optional i
 nterventional cadaver lab training as a stand alone three (3) day cour
 se, or as part of a week long comprehensive musculoskeletal ultrasound
  training and CME program. In the week long program, participants will
  learn ultrasound techniques for the entire musculoskeletal ultrasound
  specialty including regenerative medicine.\n\nFor more information vi
 sit https://community.radrounds.com/events/introduction-to-musculoskel
 etal-ultrasound-with-optional-6
DTSTART:20190218T123000Z
DTEND:20190220T214500Z
CATEGORIES:live, cme, seminar
LOCATION:Gulfcoast Ultrasound Institute
WEBSITE:https://www.gcus.com/
URL:https://www.gcus.com/
CONTACT:727-363-4500
ORGANIZER:Gulfcoast Ultrasound Institute, Inc
ATTACH;FMTTYPE="image/jpeg":https://storage.ning.com/topology/rest/1.0
 /file/get/308227803?profile=original
ATTENDEE;ROLE=REQ-PARTICIPANT;PARTSTAT=ACCEPTED;RSVP=TRUE;CN="Casey Gr
 een":https://community.radrounds.com/profile/JamesSalame
END:VEVENT
END:VCALENDAR
